BEGIN:VCALENDAR
VERSION:2.0
PRODID:-//wp-events-plugin.com//7.2.3.1//EN
TZID:America/New_York
X-WR-TIMEZONE:America/New_York
BEGIN:VEVENT
UID:342@hamptons.com
DTSTART;TZID=America/New_York:20260425T170000
DTEND;TZID=America/New_York:20260425T210000
DTSTAMP:20260415T152206Z
URL:https://hamptons.com/events/a-taste-of-peru-2/
SUMMARY:A Taste of Peru
DESCRIPTION:Join us for a vibrant celebration of Peruvian cuisine at The Ba
 ker House 1650 April 25th. 5 to 9PM\nImmerse yourself in the rich traditio
 ns of Peru\, sampling authentic cuisine and cocktails. Experience the priv
 ate venue of The Baker House where history comes to life. Select your seat
 ing at 5pm or 7pm for a 2 hour reservation.\nInvite your friends and share
  the experience of Peruvian culture in our picturesque atmosphere. Whether
  you're sampling savory dishes or sipping on traditional cocktails\, this 
 event promises to be a feast for both the palate and the spirit.\n\nRSVP
ATTACH;FMTTYPE=image/jpeg:https://hamptons.com/wp-content/uploads/2026/04/
 Baker-postcard-invites-39-copy-e1776266483862.png
LOCATION:The Baker House 1650\, 181 Main Street\, East Hampton\, New York\,
  11937\, United States
X-APPLE-STRUCTURED-LOCATION;VALUE=URI;X-ADDRESS=181 Main Street\, East Hamp
 ton\, New York\, 11937\, United States;X-APPLE-RADIUS=100;X-TITLE=The Bake
 r House 1650:geo:0,0
END:VEVENT
BEGIN:VTIMEZONE
TZID:America/New_York
X-LIC-LOCATION:America/New_York
BEGIN:DAYLIGHT
DTSTART:20260308T030000
TZOFFSETFROM:-0500
TZOFFSETTO:-0400
TZNAME:EDT
END:DAYLIGHT
END:VTIMEZONE
END:VCALENDAR