BEGIN:VCALENDAR
VERSION:2.0
PRODID:-//wp-events-plugin.com//7.2.3.1//EN
TZID:America/New_York
X-WR-TIMEZONE:America/New_York
BEGIN:VEVENT
UID:219@hamptons.com
DTSTART;TZID=America/New_York:20260404T090000
DTEND;TZID=America/New_York:20260413T100000
DTSTAMP:20260327T190006Z
URL:https://hamptons.com/events/adult-ballet-2/
SUMMARY:Adult Ballet
DESCRIPTION:Join Our Fabulous Variety Show for an adult ballet class\, acce
 ssible to all levels! This total-body workout uses low-impact\, high-inten
 sity movements to improve strength\, flexibility\, and posture. Perfect fo
 r every body\, this class blends classical ballet foundations with functio
 nal fitness for an empowering experience. Full session is $60\, drop-in cl
 asses are $25 each. To register or for more information go to https://www.
 hisawyer.com/our-fabulous-variety-show/schedules/activity-set/1849272
ATTACH;FMTTYPE=image/jpeg:https://hamptons.com/wp-content/uploads/2026/03/
 Adult-Ballet-smaller-1-e1774637503469.jpeg
LOCATION:The Studio on Main\, 79 Main Street\, East Hampton \, NY\, 11937\,
  United States
X-APPLE-STRUCTURED-LOCATION;VALUE=URI;X-ADDRESS=79 Main Street\, East Hampt
 on \, NY\, 11937\, United States;X-APPLE-RADIUS=100;X-TITLE=The Studio on 
 Main:geo:0,0
END:VEVENT
BEGIN:VTIMEZONE
TZID:America/New_York
X-LIC-LOCATION:America/New_York
BEGIN:DAYLIGHT
DTSTART:20260308T030000
TZOFFSETFROM:-0500
TZOFFSETTO:-0400
TZNAME:EDT
END:DAYLIGHT
END:VTIMEZONE
END:VCALENDAR