BEGIN:VCALENDAR
VERSION:2.0
PRODID:-//wp-events-plugin.com//7.2.3.1//EN
TZID:America/New_York
X-WR-TIMEZONE:America/New_York
BEGIN:VEVENT
UID:386@hamptons.com
DTSTART;TZID=America/New_York:20260502T120000
DTEND;TZID=America/New_York:20260502T170000
DTSTAMP:20260421T182155Z
URL:https://hamptons.com/events/airing-of-the-quilts-returns-to-the-arts-c
 enter-at-duck-creek/
SUMMARY:Airing of the Quilts Returns to The Arts Center at Duck Creek
DESCRIPTION:The Arts Center at Duck Creek is set to host their fourth annua
 l Airing of the Quilts on Saturday\, May 2 from 12 to 5 p.m.\, with a rain
  date of Sunday\, May 3. All are welcome to participate in airing their qu
 ilts in this celebration of community\, creativity and the arrival of spri
 ng. This cherished tradition symbolizes the transition from winter into sp
 ring. The age-old practice of quilt-making fosters creativity\, storytelli
 ng and community across generations.\n\nFrom 10:30 a.m. – 12 p.m. partic
 ipants are invited to come out and hang their quilts for all to see. From 
 12 – 5 p.m.\, guests are welcome to walk the grounds and view an array o
 f quilts\, new and old\, including 3 years of Community Quilts made for th
 is event.
ATTACH;FMTTYPE=image/jpeg:https://hamptons.com/wp-content/uploads/2026/04/
 duck-airing-quilts-e1776795645670.png
LOCATION:The Arts Center at Duck Creek\, 127 Squaw Rd\, East Hampton\, New 
 York\, 11937\, United States
X-APPLE-STRUCTURED-LOCATION;VALUE=URI;X-ADDRESS=127 Squaw Rd\, East Hampton
 \, New York\, 11937\, United States;X-APPLE-RADIUS=100;X-TITLE=The Arts Ce
 nter at Duck Creek:geo:0,0
END:VEVENT
BEGIN:VTIMEZONE
TZID:America/New_York
X-LIC-LOCATION:America/New_York
BEGIN:DAYLIGHT
DTSTART:20260308T030000
TZOFFSETFROM:-0500
TZOFFSETTO:-0400
TZNAME:EDT
END:DAYLIGHT
END:VTIMEZONE
END:VCALENDAR