BEGIN:VCALENDAR
VERSION:2.0
PRODID:-//wp-events-plugin.com//7.2.3.1//EN
TZID:America/New_York
X-WR-TIMEZONE:America/New_York
BEGIN:VEVENT
UID:147@hamptons.com
DTSTART;TZID=America/New_York:20260406T110000
DTEND;TZID=America/New_York:20260531T170000
DTSTAMP:20260324T205426Z
URL:https://hamptons.com/events/art-exhibition-a-thousand-words-photograph
 y-at-the-new-yorker/
SUMMARY:Art Exhibition: A Thousand Words: Photography at The New Yorker
DESCRIPTION:*Please note: Our galleries will be closed Saturday\, April 11 
 for our annual Creativity Conference&nbsp\;\n\nOPENING RECEPTION: April 4 
 | 6 PM - 7:30 PM\n\nON VIEW: April 5 - May 31\nThursday - Monday\n11 AM - 
 5 PM\n\nFEATURING:\nRICHARD AVEDON\, RUVEN AFANADOR\, MARY ELLEN MARK\, GI
 LLES PERESS\, SYLVIA PLACHY\, PLATON\, ROBERT POLIDORI\, STEVE PYKE\, MART
 IN SCHOELLER &amp\; MAX VADUKUL&nbsp\;\n\nThe New Yorker&nbsp\;magazine ce
 lebrated its 100th&nbsp\;Anniversary in February 2025. For almost 70 years
 \, only illustrations were used for articles in&nbsp\;the publication. In 
 1992\, when Tina Brown was named Editor-in-Chief\, she broke with traditio
 n by introducing photography\, immediately naming&nbsp\;Richard Avedon&nbs
 p\;as the magazine’s first exclusive staff photographer&nbsp\;and&nbsp\;
 subsequently naming&nbsp\;Elisabeth Biondi&nbsp\;as its first Visuals Edit
 or in 1994\, where she remained through 2013.
ATTACH;FMTTYPE=image/jpeg:https://hamptons.com/wp-content/uploads/2026/03/
 A-Thousand-Words-Banner-HCom-2.jpg
LOCATION:The Church\, 48 Madison St\, Sag Harbor\, NY\, 11963\, Hamptons\, 
 United States
X-APPLE-STRUCTURED-LOCATION;VALUE=URI;X-ADDRESS=48 Madison St\, Sag Harbor\
 , NY\, 11963\, Hamptons\, United States;X-APPLE-RADIUS=100;X-TITLE=The Chu
 rch:geo:0,0
END:VEVENT
BEGIN:VTIMEZONE
TZID:America/New_York
X-LIC-LOCATION:America/New_York
BEGIN:DAYLIGHT
DTSTART:20260308T030000
TZOFFSETFROM:-0500
TZOFFSETTO:-0400
TZNAME:EDT
END:DAYLIGHT
END:VTIMEZONE
END:VCALENDAR