BEGIN:VCALENDAR
VERSION:2.0
PRODID:-//wp-events-plugin.com//7.2.3.1//EN
TZID:America/New_York
X-WR-TIMEZONE:America/New_York
BEGIN:VEVENT
UID:224@hamptons.com
DTSTART;TZID=America/New_York:20260418T110000
DTEND;TZID=America/New_York:20260427T114500
DTSTAMP:20260327T185109Z
URL:https://hamptons.com/events/caregiver-me-ballet/
SUMMARY:Caregiver &amp\; Me Ballet
DESCRIPTION:Join Our Fabulous Variety Show at our&nbsp\; Caregiver &amp\; M
 e Ballet class and receive an intro to ballet language with fun music and 
 props! This is an accessible class open to all children ages 1.5-4 years o
 ld (adult participation is required). Full session registration is $92\, d
 rop-in classes are $27 each. To register or to find more information go to
  https://www.hisawyer.com/our-fabulous-variety-show/schedules/activity-set
 /1849273?source=semester
ATTACH;FMTTYPE=image/jpeg:https://hamptons.com/wp-content/uploads/2026/03/
 Caregiver-smaller-1-e1774637440707.jpeg
LOCATION:OFVS Studio at Project MOST\, 44 Meadow Way\, East Hampton\, NY\, 
 11937\, United States
X-APPLE-STRUCTURED-LOCATION;VALUE=URI;X-ADDRESS=44 Meadow Way\, East Hampto
 n\, NY\, 11937\, United States;X-APPLE-RADIUS=100;X-TITLE=OFVS Studio at P
 roject MOST:geo:0,0
END:VEVENT
BEGIN:VTIMEZONE
TZID:America/New_York
X-LIC-LOCATION:America/New_York
BEGIN:DAYLIGHT
DTSTART:20260308T030000
TZOFFSETFROM:-0500
TZOFFSETTO:-0400
TZNAME:EDT
END:DAYLIGHT
END:VTIMEZONE
END:VCALENDAR