BEGIN:VCALENDAR
VERSION:2.0
PRODID:-//wp-events-plugin.com//7.2.3.1//EN
TZID:America/New_York
X-WR-TIMEZONE:America/New_York
BEGIN:VEVENT
UID:53@hamptons.com
DTSTART;TZID=America/New_York:20260322T153000
DTEND;TZID=America/New_York:20260322T183000
DTSTAMP:20260318T184634Z
URL:https://hamptons.com/events/cooking-class-with-chef-alex-at-r-aire/
SUMMARY:Cooking Class With Chef Alex at R.AIRE
DESCRIPTION:R.AIRE&nbsp\; (https://www.hamptonmaid.com/raire)&nbsp\;&nbsp\;
 has announced they will host a Cooking Class with Chef Alex on the followi
 ng dates: Sunday\, March 8\; Sunday\, March 22\; Sunday\, April 12 and Sun
 day\, April 26 from 3:30 to 6:30 p.m. Chef Alex will lead a hands-on class
 ic making class Spanish tapas and paella complete with wine pairing. Cost 
 is $150 per person\, plus tax and gratuity and can be purchased by visitin
 g https://www.hamptonmaid.com/raire.
ATTACH;FMTTYPE=image/jpeg:https://hamptons.com/wp-content/uploads/2026/03/
 spanish-paella.jpg
LOCATION:R.AIRE at The Hampton Maid\, 259 East Montauk Hw\, Hampton Bays\, 
 NY\, United States
X-APPLE-STRUCTURED-LOCATION;VALUE=URI;X-ADDRESS=259 East Montauk Hw\, Hampt
 on Bays\, NY\, United States;X-APPLE-RADIUS=100;X-TITLE=R.AIRE at The Hamp
 ton Maid:geo:0,0
END:VEVENT
BEGIN:VTIMEZONE
TZID:America/New_York
X-LIC-LOCATION:America/New_York
BEGIN:DAYLIGHT
DTSTART:20260308T030000
TZOFFSETFROM:-0500
TZOFFSETTO:-0400
TZNAME:EDT
END:DAYLIGHT
END:VTIMEZONE
END:VCALENDAR