BEGIN:VCALENDAR
VERSION:2.0
PRODID:-//wp-events-plugin.com//7.2.3.1//EN
TZID:America/New_York
X-WR-TIMEZONE:America/New_York
BEGIN:VEVENT
UID:408@hamptons.com
DTSTART;TZID=America/New_York:20260424T110000
DTEND;TZID=America/New_York:20260426T213000
DTSTAMP:20260422T192149Z
URL:https://hamptons.com/events/docs-equinox/
SUMMARY:Docs Equinox
DESCRIPTION:The 3-day festival celebrates Earth Week with award-winning Sun
 dance films championed by the late Robert Redford.\nEarth Central Hub part
 icipants: Evelyn Alexander Wildlife Rescue Center\, SOFO South Fork Natura
 l History Museum &amp\; Nature Center\, Turtle Rescue of the Hamptons\nBoo
 k signing with author Carl Safina at Canio book table.\nGet Tickets
ATTACH;FMTTYPE=image/jpeg:https://hamptons.com/wp-content/uploads/2026/04/
 equinox-film.jpg
LOCATION:Southampton Arts Center\, 25 Jobs Lane\, Southampton\, NY\, United
  States
X-APPLE-STRUCTURED-LOCATION;VALUE=URI;X-ADDRESS=25 Jobs Lane\, Southampton\
 , NY\, United States;X-APPLE-RADIUS=100;X-TITLE=Southampton Arts Center:ge
 o:0,0
END:VEVENT
BEGIN:VTIMEZONE
TZID:America/New_York
X-LIC-LOCATION:America/New_York
BEGIN:DAYLIGHT
DTSTART:20260308T030000
TZOFFSETFROM:-0500
TZOFFSETTO:-0400
TZNAME:EDT
END:DAYLIGHT
END:VTIMEZONE
END:VCALENDAR