BEGIN:VCALENDAR
VERSION:2.0
PRODID:-//wp-events-plugin.com//7.2.3.1//EN
TZID:America/New_York
X-WR-TIMEZONE:America/New_York
BEGIN:VEVENT
UID:422@hamptons.com
DTSTART;TZID=America/New_York:20260425T130000
DTEND;TZID=America/New_York:20260425T160000
DTSTAMP:20260423T170212Z
URL:https://hamptons.com/events/earth-day-birdhouse-decorating/
SUMMARY:Earth Day Birdhouse Decorating
DESCRIPTION:\n 	Location: 36 Mitchell Ln​​​​‌‍​‍​‍‌
 ‍‌​‍‌‍‍‌‌‍‌‌‍‍‌‌‍‍​‍​‍​‍
 ‍​‍​‍‌​‌‍​‌‌‍‍‌‍‍‌‌‌​‌‍‌
 ​‍‍‌‍‍‌‌‍​‍​‍​‍​​‍​‍‌‍‍​
 ‌​‍‌‍‌‌‌‍‌‍​‍​‍​‍‍​‍​‍‌‍
 ‍​‌‌​‌‌​‌​​‌​​‍‍​‍​‍‌‍​‌
 ‍‌‌​​‍‍‌​​‌‍‌‌‌‍​‌‍‌‍‍‌‍
 ‍‌‌‍​‌‍​‌‍​‌‌‍‍‌‍‌​‌‌​‌​
 ‍‌‌‌‌​‌‌​​‍‍‌‍‌​‍‌‍‌​‍‌‍
 ‍‌‌‍‍‌‌​‌‍‌‌‌‍‍‌‌​​‍‌‍‌‌
 ‌‍‌​‌‍‍‌‌‌​​‍‌‍‌‌‍‌‍‌​‌‍
 ‌‌​‌‌​​‌​‍‌‍‌‌‌​‌‍‌‌‌‍‍‌
 ‌​‌‍​‌‌‌​‌‍‍‌‌‍‌‍‍​‍‌‍‍‌
 ‌‍‌​​‌‌‍‌‍​​‍‌‍​‍​​​‌​‌‍
 ​‌‌‍​‍​‌‍​‍‌‌‍​‌​‌‌​‌​‌‌
 ​‍‌​‌​‌‍‌‌‌‍‌‌‌‍‌‌​‍‌‌‍​
 ‍‌‍‌‌‌‍‌​‌‍​‍​‍‌​‌‌‍​‌‌‍
 ‌​​​​​‌‌‌‍​‌‍​​​​‌​​‍​​​
 ‌‌‍‌‍​‍‌‌​‌‍‌‌​​‌‍‌‌​‌‌‍
 ​‌‍‌‍​‌‍​‌‌‌​‌‍‍‌‌‍‌‍‍​‍
 ‌​​‌‍​‌‌‌​‌‍‍​​‌‌‍​‌‌‍‌​
 ‌‍‌​‌​‍‌‍‌‌‌​‌​‌‌​​‌​‌‍​
 ‍‌‍​‌‌​‌‍‌‌‌‌‌‌‌​‍‌‍​​‌‌
 ‍‍​‌‌​‌‌​‌​​‌​​‍‌‌​​‌​​‌
 ​‍‌‌​​‍‌​‌‍​‍‌‌​​‍‌​‌‍‌‍
 ​‌‍‌‌​​‍‍‌​​‌‍‌‌‌‍​‌‍‌‍‍
 ‌‍‍‌‌‍​‌‍​‌‍​‌‌‍‍‌‍‌​‌‌​
 ‌​‍‌‌‌‌​‌‌​​‍‍‌‍‌​‍‌‍‌​‍
 ‌‍‌‍‍‌‌‍‌​​‌‌‍‌‍​​‍‌‍​‍​
 ​​‌​‌‍​‌‌‍​‍​‌‍​‍‌‌‍​‌​‌
 ‌​‌​‌‌​‍‌​‌​‌‍‌‌‌‍‌‌‌‍‌‌
 ​‍‌‌‍​‍‌‍‌‌‌‍‌​‌‍​‍​‍‌​‌
 ‌‍​‌‌‍‌​​​​​‌‌‌‍​‌‍​​​​‌
 ​​‍​​​‌‌‍‌‍​‍‌‍‌‌​‌‍‌‌​​
 ‌‍‌‌​‌‌‍​‌‍‌‍​‌‍​‌‌‌​‌‍‍
 ‌‌‍‌‍‍​‍‌‍‌​​‌‍​‌‌‌​‌‍‍​
 ​‌‌‍​‌‌‍‌​‌‍‌​‌​‍‌‍‌‌‌​‌
 ​‌‌​​‌​‍‌‍‌​​‌‍‌‌‌​‍‌​‌​
 ​‌‍‌‌‌‍​‌‌​‌‍‍‌‌‌‍‌‍‌‌​‌
 ‌​​‌‌‌‌‍​‍‌‍​‌‍‍‌‌​‌‍‍​‌
 ‍‌‌‌‍‌​​‍​‍‌‌\, Bridgehampton​​​​‌‍
 ​‍​‍‌‍‌​‍‌‍‍‌‌‍‌‌‍‍‌‌‍‍​
 ‍​‍​‍‍​‍​‍‌​‌‍​‌‌‍‍‌‍‍‌‌
 ‌​‌‍‌​‍‍‌‍‍‌‌‍​‍​‍​‍​​‍​
 ‍‌‍‍​‌​‍‌‍‌‌‌‍‌‍​‍​‍​‍‍​
 ‍​‍‌‍‍​‌‌​‌‌​‌​​‌​​‍‍​‍​
 ‍‌‍​‌‍‌‌​​‍‍‌​​‌‍‌‌‌‍​‌‍
 ‌‍‍‌‍‍‌‌‍​‌‍​‌‍​‌‌‍‍‌‍‌​
 ‌‌​‌​‍‌‌‌‌​‌‌​​‍‍‌‍‌​‍‌‍
 ‌​‍‌‍‍‌‌‍‍‌‌​‌‍‌‌‌‍‍‌‌​​
 ‍‌‍‌‌‌‍‌​‌‍‍‌‌‌​​‍‌‍‌‌‍‌
 ‍‌​‌‍‌‌​‌‌​​‌​‍‌‍‌‌‌​‌‍‌
 ‌‌‍‍‌‌​‌‍​‌‌‌​‌‍‍‌‌‍‌‍‍​
 ‍‌‍‍‌‌‍‌​​‌‌‍‌‍​​‍‌‍​‍​​
 ​‌​‌‍​‌‌‍​‍​‌‍​‍‌‌‍​‌​‌‌
 ​‌​‌‌​‍‌​‌​‌‍‌‌‌‍‌‌‌‍‌‌​
 ‍‌‌‍​‍‌‍‌‌‌‍‌​‌‍​‍​‍‌​‌‌
 ‍​‌‌‍‌​​​​​‌‌‌‍​‌‍​​​​‌​
 ​‍​​​‌‌‍‌‍​‍‌‌​‌‍‌‌​​‌‍‌
 ‌​‌‌‍​‌‍‌‍​‌‍​‌‌‌​‌‍‍‌‌‍
 ‌‍‍​‍‌​​‌‍​‌‌‌​‌‍‍​​‌‌‍​
 ‌‍‍‌‌‌​‌‍‌​‌‍​‍‌‍​‌‌​‌‍‌
 ‌‌‌‌‌‌​‍‌‍​​‌‌‍‍​‌‌​‌‌​‌
 ​​‌​​‍‌‌​​‌​​‌​‍‌‌​​‍‌​‌
 ‍​‍‌‌​​‍‌​‌‍‌‍​‌‍‌‌​​‍‍‌
 ​​‌‍‌‌‌‍​‌‍‌‍‍‌‍‍‌‌‍​‌‍​
 ‌‍​‌‌‍‍‌‍‌​‌‌​‌​‍‌‌‌‌​‌‌
 ​​‍‍‌‍‌​‍‌‍‌​‍‌‍‌‍‍‌‌‍‌​
 ​‌‌‍‌‍​​‍‌‍​‍​​​‌​‌‍​‌‌‍
 ​‍​‌‍​‍‌‌‍​‌​‌‌​‌​‌‌​‍‌​
 ‌​‌‍‌‌‌‍‌‌‌‍‌‌​‍‌‌‍​‍‌‍‌
 ‌‌‍‌​‌‍​‍​‍‌​‌‌‍​‌‌‍‌​​​
 ​​‌‌‌‍​‌‍​​​​‌​​‍​​​‌‌‍‌
 ‍​‍‌‍‌‌​‌‍‌‌​​‌‍‌‌​‌‌‍​‌
 ‍‌‍​‌‍​‌‌‌​‌‍‍‌‌‍‌‍‍​‍‌‍
 ‌​​‌‍​‌‌‌​‌‍‍​​‌‌‍​‌‍‍‌‌
 ‌​‌‍‌​‍‌‍‌​​‌‍‌‌‌​‍‌​‌​​
 ‌‍‌‌‌‍​‌‌​‌‍‍‌‌‌‍‌‍‌‌​‌‌
 ​​‌‌‌‌‍​‍‌‍​‌‍‍‌‌​‌‍‍​‌‍
 ‌‌‌‍‌​​‍​‍‌‌&nbsp\;NY​​​​‌‍​‍​
 ‍‌‍‌​‍‌‍‍‌‌‍‌‌‍‍‌‌‍‍​‍​‍
 ​‍‍​‍​‍‌​‌‍​‌‌‍‍‌‍‍‌‌‌​‌
 ‍‌​‍‍‌‍‍‌‌‍​‍​‍​‍​​‍​‍‌‍
 ‍​‌​‍‌‍‌‌‌‍‌‍​‍​‍​‍‍​‍​‍
 ‌‍‍​‌‌​‌‌​‌​​‌​​‍‍​‍​‍‌‍
 ​‌‍‌‌​​‍‍‌​​‌‍‌‌‌‍​‌‍‌‍‍
 ‌‍‍‌‌‍​‌‍​‌‍​‌‌‍‍‌‍‌​‌‌​
 ‌​‍‌‌‌‌​‌‌​​‍‍‌‍‌​‍‌‍‌​‍
 ‌‍‍‌‌‍‍‌‌​‌‍‌‌‌‍‍‌‌​​‍‌‍
 ‌‌‌‍‌​‌‍‍‌‌‌​​‍‌‍‌‌‍‌‍‌​
 ‌‍‌‌​‌‌​​‌​‍‌‍‌‌‌​‌‍‌‌‌‍
 ‍‌‌​‌‍​‌‌‌​‌‍‍‌‌‍‌‍‍​‍‌‍
 ‍‌‌‍‌​​‌‌‍‌‍​​‍‌‍​‍​​​‌​
 ‌‍​‌‌‍​‍​‌‍​‍‌‌‍​‌​‌‌​‌​
 ‌‌​‍‌​‌​‌‍‌‌‌‍‌‌‌‍‌‌​‍‌‌
 ‍​‍‌‍‌‌‌‍‌​‌‍​‍​‍‌​‌‌‍​‌
 ‌‍‌​​​​​‌‌‌‍​‌‍​​​​‌​​‍​
 ​​‌‌‍‌‍​‍‌‌​‌‍‌‌​​‌‍‌‌​‌
 ‌‍​‌‍‌‍​‌‍​‌‌‌​‌‍‍‌‌‍‌‍‍
 ​‍‌​​‌‍​‌‌‌​‌‍‍​​‌‌​‌‌​‌
 ‍​‌‌‌​‌‍‌‌​‌‍​‍‌‍​‌‌​‌‍‌
 ‌‌‌‌‌‌​‍‌‍​​‌‌‍‍​‌‌​‌‌​‌
 ​​‌​​‍‌‌​​‌​​‌​‍‌‌​​‍‌​‌
 ‍​‍‌‌​​‍‌​‌‍‌‍​‌‍‌‌​​‍‍‌
 ​​‌‍‌‌‌‍​‌‍‌‍‍‌‍‍‌‌‍​‌‍​
 ‌‍​‌‌‍‍‌‍‌​‌‌​‌​‍‌‌‌‌​‌‌
 ​​‍‍‌‍‌​‍‌‍‌​‍‌‍‌‍‍‌‌‍‌​
 ​‌‌‍‌‍​​‍‌‍​‍​​​‌​‌‍​‌‌‍
 ​‍​‌‍​‍‌‌‍​‌​‌‌​‌​‌‌​‍‌​
 ‌​‌‍‌‌‌‍‌‌‌‍‌‌​‍‌‌‍​‍‌‍‌
 ‌‌‍‌​‌‍​‍​‍‌​‌‌‍​‌‌‍‌​​​
 ​​‌‌‌‍​‌‍​​​​‌​​‍​​​‌‌‍‌
 ‍​‍‌‍‌‌​‌‍‌‌​​‌‍‌‌​‌‌‍​‌
 ‍‌‍​‌‍​‌‌‌​‌‍‍‌‌‍‌‍‍​‍‌‍
 ‌​​‌‍​‌‌‌​‌‍‍​​‌‌​‌‌​‌‍​
 ‌‌‌​‌‍‌‌​‍‌‍‌​​‌‍‌‌‌​‍‌​
 ‌​​‌‍‌‌‌‍​‌‌​‌‍‍‌‌‌‍‌‍‌‌
 ​‌‌​​‌‌‌‌‍​‍‌‍​‌‍‍‌‌​‌‍‍
 ​‌‍‌‌‌‍‌​​‍​‍‌‌\,&nbsp\;11932​​​​‌
 ‍​‍​‍‌‍‌​‍‌‍‍‌‌‍‌‌‍‍‌‌‍‍
 ​‍​‍​‍‍​‍​‍‌​‌‍​‌‌‍‍‌‍‍‌
 ‌‌​‌‍‌​‍‍‌‍‍‌‌‍​‍​‍​‍​​‍
 ​‍‌‍‍​‌​‍‌‍‌‌‌‍‌‍​‍​‍​‍‍
 ​‍​‍‌‍‍​‌‌​‌‌​‌​​‌​​‍‍​‍
 ​‍‌‍​‌‍‌‌​​‍‍‌​​‌‍‌‌‌‍​‌
 ‍‌‍‍‌‍‍‌‌‍​‌‍​‌‍​‌‌‍‍‌‍‌
 ​‌‌​‌​‍‌‌‌‌​‌‌​​‍‍‌‍‌​‍‌
 ‍‌​‍‌‍‍‌‌‍‍‌‌​‌‍‌‌‌‍‍‌‌​
 ​‍‌‍‌‌‌‍‌​‌‍‍‌‌‌​​‍‌‍‌‌‍
 ‌‍‌​‌‍‌‌​‌‌​​‌​‍‌‍‌‌‌​‌‍
 ‌‌‌‍‍‌‌​‌‍​‌‌‌​‌‍‍‌‌‍‌‍‍
 ​‍‌‍‍‌‌‍‌​​‌‌‍‌‍​​‍‌‍​‍​
 ​​‌​‌‍​‌‌‍​‍​‌‍​‍‌‌‍​‌​‌
 ‌​‌​‌‌​‍‌​‌​‌‍‌‌‌‍‌‌‌‍‌‌
 ​‍‌‌‍​‍‌‍‌‌‌‍‌​‌‍​‍​‍‌​‌
 ‌‍​‌‌‍‌​​​​​‌‌‌‍​‌‍​​​​‌
 ​​‍​​​‌‌‍‌‍​‍‌‌​‌‍‌‌​​‌‍
 ‌‌​‌‌‍​‌‍‌‍​‌‍​‌‌‌​‌‍‍‌‌
 ‍‌‍‍​‍‌​​‌‍​‌‌‌​‌‍‍​​‌‌‍
 ‍‌‍‍‌‌​​‌‍​‌‍‌‍‌​‌‍‌‌​‌‍
 ​‍‌‍​‌‌​‌‍‌‌‌‌‌‌‌​‍‌‍​​‌
 ‌‍‍​‌‌​‌‌​‌​​‌​​‍‌‌​​‌​​
 ‌​‍‌‌​​‍‌​‌‍​‍‌‌​​‍‌​‌‍‌
 ‍​‌‍‌‌​​‍‍‌​​‌‍‌‌‌‍​‌‍‌‍
 ‍‌‍‍‌‌‍​‌‍​‌‍​‌‌‍‍‌‍‌​‌‌
 ​‌​‍‌‌‌‌​‌‌​​‍‍‌‍‌​‍‌‍‌​
 ‍‌‍‌‍‍‌‌‍‌​​‌‌‍‌‍​​‍‌‍​‍
 ​​​‌​‌‍​‌‌‍​‍​‌‍​‍‌‌‍​‌​
 ‌‌​‌​‌‌​‍‌​‌​‌‍‌‌‌‍‌‌‌‍‌
 ‌​‍‌‌‍​‍‌‍‌‌‌‍‌​‌‍​‍​‍‌​
 ‌‌‍​‌‌‍‌​​​​​‌‌‌‍​‌‍​​​​
 ‌​​‍​​​‌‌‍‌‍​‍‌‍‌‌​‌‍‌‌​
 ​‌‍‌‌​‌‌‍​‌‍‌‍​‌‍​‌‌‌​‌‍
 ‍‌‌‍‌‍‍​‍‌‍‌​​‌‍​‌‌‌​‌‍‍
 ​​‌‌‍‍‌‍‍‌‌​​‌‍​‌‍‌‍‌​‌‍
 ‌‌​‍‌‍‌​​‌‍‌‌‌​‍‌​‌​​‌‍‌
 ‌‌‍​‌‌​‌‍‍‌‌‌‍‌‍‌‌​‌‌​​‌
 ‌‌‌‍​‍‌‍​‌‍‍‌‌​‌‍‍​‌‍‌‌‌
 ‍‌​​‍​‍‌‌\n\nThe Shine Studio and Peconic Land Trust inv
 ite families\, friends\, and nature lovers to celebrate Earth Day with a c
 reative afternoon at the beautiful Bridge Gardens on ​​​​‌‍​
 ‍​‍‌‍‌​‍‌‍‍‌‌‍‌‌‍‍‌‌‍‍​‍
 ​‍​‍‍​‍​‍‌​‌‍​‌‌‍‍‌‍‍‌‌‌
 ​‌‍‌​‍‍‌‍‍‌‌‍​‍​‍​‍​​‍​‍
 ‌‍‍​‌​‍‌‍‌‌‌‍‌‍​‍​‍​‍‍​‍
 ​‍‌‍‍​‌‌​‌‌​‌​​‌​​‍‍​‍​‍
 ‌‍​‌‍‌‌​​‍‍‌​​‌‍‌‌‌‍​‌‍‌
 ‍‍‌‍‍‌‌‍​‌‍​‌‍​‌‌‍‍‌‍‌​‌
 ‌​‌​‍‌‌‌‌​‌‌​​‍‍‌‍‌​‍‌‍‌
 ​‍‌‍‍‌‌‍‍‌‌​‌‍‌‌‌‍‍‌‌​​‍
 ‌‍‌‌‌‍‌​‌‍‍‌‌‌​​‍‌‍‌‌‍‌‍
 ‌​‌‍‌‌​‌‌​​‌​‍‌‍‌‌‌​‌‍‌‌
 ‌‍‍‌‌​‌‍​‌‌‌​‌‍‍‌‌‍‌‍‍​‍
 ‌‍‍‌‌‍‌​​‌‌‍​​‌‌​​‍‌‍‌​​
 ‌​​‌‌​‍​‌‍‌‍​‍‌​‌‍‌‍‌‌​​
 ‍​​‍​‍‌​‌​‌‍‌‍​‌‍‌‍‌​​‍‌
 ​‍‌‌‍‌‍​​​​‌‌​‍‌​‍‌​​‌‌‍
 ‌‍​​‌​‌‍‌‍‌​​‍​​​​‌‌​‍​​
 ‌​​​‍​‍‌‌​‌‍‌‌​​‌‍‌‌​‌‌‍
 ‌‌‌‌‍‌‍‌‌‌‍‍‌‌​​‍‌​​‌‍​‌
 ‌‌​‌‍‍​​‌‌‍​‌‍‌‍‍‌‌​‌‍‌‌
 ‌‍‍‌‌​​‍‌‌​‌‌‌​​‍‌‌‌‍‍‌‍
 ‌‌‌‍‌​‍‌‌​​‌​‌​​‍‌‌​​‌​‌
 ​​‍‌‌​​‍​​‍​​‌‌‍​​​‍​‍‌​
 ‌​​​​​‌​​‌​​‌‍‌‌​​​​​​​‍
 ‌‌​​‍​​‍​‍‌‌​‌‌‌​‌​​‍‍‌‍
 ​‌‍‍​‌‍‍‌‌‍​‌‍‌​‌​‍‌‍‌‌‌
 ‍‍​‍‌‌​‌‌‌​​‍‌‌‌‍‍‌‍‌‌‌‍
 ‌​‍‌‌​​‌​‌​​‍‌‌​​‌​‌​​‍‌
 ‌​​‍​​‍‌‍​‍‌‍​‌‌‍​‌​‌‌‌‍
 ‌‌​‌‌‍​‌​‍​​‍​‌‍‌‍​‍‌‌‍‌
 ‍​‍‌‌​​‍​​‍​‍‌‌​‌‌‌​‌​​‍
 ‍‌‌​‌‍‌‌‌‍​‌‌​​‌‍​‍‌‍​‌‌
 ​‌‍‌‌‌‌‌‌‌​‍‌‍​​‌‌‍‍​‌‌​
 ‌‌​‌​​‌​​‍‌‌​​‌​​‌​‍‌‌​​
 ‍‌​‌‍​‍‌‌​​‍‌​‌‍‌‍​‌‍‌‌​
 ​‍‍‌​​‌‍‌‌‌‍​‌‍‌‍‍‌‍‍‌‌‍
 ​‌‍​‌‍​‌‌‍‍‌‍‌​‌‌​‌​‍‌‌‌
 ‌​‌‌​​‍‍‌‍‌​‍‌‍‌​‍‌‍‌‍‍‌
 ‌‍‌​​‌‌‍​​‌‌​​‍‌‍‌​​‌​​‌
 ‌​‍​‌‍‌‍​‍‌​‌‍‌‍‌‌​​‍​​‍
 ​‍‌​‌​‌‍‌‍​‌‍‌‍‌​​‍‌​‍‌‌
 ‍‌‍​​​​‌‌​‍‌​‍‌​​‌‌‍‌‍​​
 ‌​‌‍‌‍‌​​‍​​​​‌‌​‍​​‌​​​
 ‍​‍‌‍‌‌​‌‍‌‌​​‌‍‌‌​‌‌‍‌‌
 ‌‌‍‌‍‌‌‌‍‍‌‌​​‍‌‍‌​​‌‍​‌
 ‌‌​‌‍‍​​‌‌‍​‌‍‌‍‍‌‌​‌‍‌‌
 ‌‍‍‌‌​​‍‌‌​‌‌‌​​‍‌‌‌‍‍‌‍
 ‌‌‌‍‌​‍‌‌​​‌​‌​​‍‌‌​​‌​‌
 ​​‍‌‌​​‍​​‍​​‌‌‍​​​‍​‍‌​
 ‌​​​​​‌​​‌​​‌‍‌‌​​​​​​​‍
 ‌‌​​‍​​‍​‍‌‌​‌‌‌​‌​​‍‍‌‍
 ​‌‍‍​‌‍‍‌‌‍​‌‍‌​‌​‍‌‍‌‌‌
 ‍‍​‍‌‌​‌‌‌​​‍‌‌‌‍‍‌‍‌‌‌‍
 ‌​‍‌‌​​‌​‌​​‍‌‌​​‌​‌​​‍‌
 ‌​​‍​​‍‌‍​‍‌‍​‌‌‍​‌​‌‌‌‍
 ‌‌​‌‌‍​‌​‍​​‍​‌‍‌‍​‍‌‌‍‌
 ‍​‍‌‌​​‍​​‍​‍‌‌​‌‌‌​‌​​‍
 ‍‌‌​‌‍‌‌‌‍​‌‌​​‍‌‍‌​​‌‍‌
 ‌‌​‍‌​‌​​‌‍‌‌‌‍​‌‌​‌‍‍‌‌
 ‌‍‌‍‌‌​‌‌​​‌‌‌‌‍​‍‌‍​‌‍‍
 ‌‌​‌‍‍​‌‍‌‌‌‍‌​​‍​‍‌‌Saturday\, 
 April 25\, from 1:00–4:00 PM​​​​‌‍​‍​‍‌‍‌​
 ‍‌‍‍‌‌‍‌‌‍‍‌‌‍‍​‍​‍​‍‍​‍
 ​‍‌​‌‍​‌‌‍‍‌‍‍‌‌‌​‌‍‌​‍‍
 ‌‍‍‌‌‍​‍​‍​‍​​‍​‍‌‍‍​‌​‍
 ‌‍‌‌‌‍‌‍​‍​‍​‍‍​‍​‍‌‍‍​‌
 ‌​‌‌​‌​​‌​​‍‍​‍​‍‌‍​‌‍‌‌
 ​​‍‍‌​​‌‍‌‌‌‍​‌‍‌‍‍‌‍‍‌‌
 ‍​‌‍​‌‍​‌‌‍‍‌‍‌​‌‌​‌​‍‌‌
 ‌‌​‌‌​​‍‍‌‍‌​‍‌‍‌​‍‌‍‍‌‌
 ‍‍‌‌​‌‍‌‌‌‍‍‌‌​​‍‌‍‌‌‌‍‌
 ​‌‍‍‌‌‌​​‍‌‍‌‌‍‌‍‌​‌‍‌‌​
 ‌‌​​‌​‍‌‍‌‌‌​‌‍‌‌‌‍‍‌‌​‌
 ‍​‌‌‌​‌‍‍‌‌‍‌‍‍​‍‌‍‍‌‌‍‌
 ​​‌‌‍​​‌‌​​‍‌‍‌​​‌​​‌‌​‍
 ​‌‍‌‍​‍‌​‌‍‌‍‌‌​​‍​​‍​‍‌
 ​‌​‌‍‌‍​‌‍‌‍‌​​‍‌​‍‌‌‍‌‍
 ​​​​‌‌​‍‌​‍‌​​‌‌‍‌‍​​‌​‌
 ‍‌‍‌​​‍​​​​‌‌​‍​​‌​​​‍​‍
 ‌‌​‌‍‌‌​​‌‍‌‌​‌‌‍‌‌‌‌‍‌‍
 ‌‌‌‍‍‌‌​​‍‌​​‌‍​‌‌‌​‌‍‍​
 ​‌‌‍​‌‍‌‍‍‌‌​‌‍‌‌‌‍‍‌‌​​
 ‍‌‌​‌‌‌​​‍‌‌‌‍‍‌‍‌‌‌‍‌​‍
 ‌‌​​‌​‌​​‍‌‌​​‌​‌​​‍‌‌​​
 ‍​​‍​​‌‌‍​​​‍​‍‌​‌​​​​​‌
 ​​‌​​‌‍‌‌​​​​​​​‍‌‌​​‍​​
 ‍​‍‌‌​‌‌‌​‌​​‍‍‌‍​‌‍‍​‌‍
 ‍‌‌‍​‌‍‌​‌​‍‌‍‌‌‌‍‍​‍‌‌​
 ‌‌‌​​‍‌‌‌‍‍‌‍‌‌‌‍‌​‍‌‌​​
 ‌​‌​​‍‌‌​​‌​‌​​‍‌‌​​‍​​‍
 ​‌​​​​​‍​​​​‌​‌​‌‍‌​​‌‍‌
 ‍‌‌​​​​‌​​​‍‌‌​​‍​​‍​‍‌‌
 ​‌‌‌​‌​​‍‍‌‌​‌‍‌‌‌‍​‌‌​​
 ‌‍​‍‌‍​‌‌​‌‍‌‌‌‌‌‌‌​‍‌‍​
 ​‌‌‍‍​‌‌​‌‌​‌​​‌​​‍‌‌​​‌
 ​​‌​‍‌‌​​‍‌​‌‍​‍‌‌​​‍‌​‌
 ‍‌‍​‌‍‌‌​​‍‍‌​​‌‍‌‌‌‍​‌‍
 ‌‍‍‌‍‍‌‌‍​‌‍​‌‍​‌‌‍‍‌‍‌​
 ‌‌​‌​‍‌‌‌‌​‌‌​​‍‍‌‍‌​‍‌‍
 ‌​‍‌‍‌‍‍‌‌‍‌​​‌‌‍​​‌‌​​‍
 ‌‍‌​​‌​​‌‌​‍​‌‍‌‍​‍‌​‌‍‌
 ‍‌‌​​‍​​‍​‍‌​‌​‌‍‌‍​‌‍‌‍
 ‌​​‍‌​‍‌‌‍‌‍​​​​‌‌​‍‌​‍‌
 ​​‌‌‍‌‍​​‌​‌‍‌‍‌​​‍​​​​‌
 ‌​‍​​‌​​​‍​‍‌‍‌‌​‌‍‌‌​​‌
 ‍‌‌​‌‌‍‌‌‌‌‍‌‍‌‌‌‍‍‌‌​​‍
 ‌‍‌​​‌‍​‌‌‌​‌‍‍​​‌‌‍​‌‍‌
 ‍‍‌‌​‌‍‌‌‌‍‍‌‌​​‍‌‌​‌‌‌​
 ​‍‌‌‌‍‍‌‍‌‌‌‍‌​‍‌‌​​‌​‌​
 ​‍‌‌​​‌​‌​​‍‌‌​​‍​​‍​​‌‌
 ‍​​​‍​‍‌​‌​​​​​‌​​‌​​‌‍‌
 ‌​​​​​​​‍‌‌​​‍​​‍​‍‌‌​‌‌
 ‌​‌​​‍‍‌‍​‌‍‍​‌‍‍‌‌‍​‌‍‌
 ​‌​‍‌‍‌‌‌‍‍​‍‌‌​‌‌‌​​‍‌‌
 ‌‍‍‌‍‌‌‌‍‌​‍‌‌​​‌​‌​​‍‌‌
 ​​‌​‌​​‍‌‌​​‍​​‍​‌​​​​​‍
 ​​​​‌​‌​‌‍‌​​‌‍‌‍‌‌​​​​‌
 ​​​‍‌‌​​‍​​‍​‍‌‌​‌‌‌​‌​​
 ‍‍‌‌​‌‍‌‌‌‍​‌‌​​‍‌‍‌​​‌‍
 ‌‌‌​‍‌​‌​​‌‍‌‌‌‍​‌‌​‌‍‍‌
 ‌‌‍‌‍‌‌​‌‌​​‌‌‌‌‍​‍‌‍​‌‍
 ‍‌‌​‌‍‍​‌‍‌‌‌‍‌​​‍​‍‌‌.​​
 ​​‌‍​‍​‍‌‍‌​‍‌‍‍‌‌‍‌‌‍‍‌
 ‌‍‍​‍​‍​‍‍​‍​‍‌​‌‍​‌‌‍‍‌
 ‍‍‌‌‌​‌‍‌​‍‍‌‍‍‌‌‍​‍​‍​‍
 ​​‍​‍‌‍‍​‌​‍‌‍‌‌‌‍‌‍​‍​‍
 ​‍‍​‍​‍‌‍‍​‌‌​‌‌​‌​​‌​​‍
 ‍​‍​‍‌‍​‌‍‌‌​​‍‍‌​​‌‍‌‌‌
 ‍​‌‍‌‍‍‌‍‍‌‌‍​‌‍​‌‍​‌‌‍‍
 ‌‍‌​‌‌​‌​‍‌‌‌‌​‌‌​​‍‍‌‍‌
 ​‍‌‍‌​‍‌‍‍‌‌‍‍‌‌​‌‍‌‌‌‍‍
 ‌‌​​‍‌‍‌‌‌‍‌​‌‍‍‌‌‌​​‍‌‍
 ‌‌‍‌‍‌​‌‍‌‌​‌‌​​‌​‍‌‍‌‌‌
 ​‌‍‌‌‌‍‍‌‌​‌‍​‌‌‌​‌‍‍‌‌‍
 ‌‍‍​‍‌‍‍‌‌‍‌​​‌‌‍​​‌‌​​‍
 ‌‍‌​​‌​​‌‌​‍​‌‍‌‍​‍‌​‌‍‌
 ‍‌‌​​‍​​‍​‍‌​‌​‌‍‌‍​‌‍‌‍
 ‌​​‍‌​‍‌‌‍‌‍​​​​‌‌​‍‌​‍‌
 ​​‌‌‍‌‍​​‌​‌‍‌‍‌​​‍​​​​‌
 ‌​‍​​‌​​​‍​‍‌‌​‌‍‌‌​​‌‍‌
 ‌​‌‌‍‌‌‌‌‍‌‍‌‌‌‍‍‌‌​​‍‌​
 ​‌‍​‌‌‌​‌‍‍​​‌‌‍​‌‍‌‍‍‌‌
 ​‌‍‌‌‌‍‍‌‌​​‍‌‌​‌‌‌​​‍‌‌
 ‌‍‍‌‍‌‌‌‍‌​‍‌‌​​‌​‌​​‍‌‌
 ​​‌​‌​​‍‌‌​​‍​​‍​​‌‌‍​​​
 ‍​‍‌​‌​​​​​‌​​‌​​‌‍‌‌​​​
 ​​​​‍‌‌​​‍​​‍​‍‌‌​‌‌‌​‌​
 ​‍‍‌‍​‌‍‍​‌‍‍‌‌‍​‌‍‌​‌​‍
 ‌‍‌‌‌‍‍​‍‌‌​‌‌‌​​‍‌‌‌‍‍‌
 ‍‌‌‌‍‌​‍‌‌​​‌​‌​​‍‌‌​​‌​
 ‌​​‍‌‌​​‍​​‍​​​‌‍​‌‌‌‍‌‌
 ​‍​​‌‌‌‍​‍​‌‌‍​‌​‌​‌‍​‍​
 ‌​​‍‌‌​​‍​​‍​‍‌‌​‌‌‌​‌​​
 ‍‍‌‌​‌‍‌‌‌‍​‌‌​​‌‍​‍‌‍​‌
 ‌​‌‍‌‌‌‌‌‌‌​‍‌‍​​‌‌‍‍​‌‌
 ​‌‌​‌​​‌​​‍‌‌​​‌​​‌​‍‌‌​
 ​‍‌​‌‍​‍‌‌​​‍‌​‌‍‌‍​‌‍‌‌
 ​​‍‍‌​​‌‍‌‌‌‍​‌‍‌‍‍‌‍‍‌‌
 ‍​‌‍​‌‍​‌‌‍‍‌‍‌​‌‌​‌​‍‌‌
 ‌‌​‌‌​​‍‍‌‍‌​‍‌‍‌​‍‌‍‌‍‍
 ‌‌‍‌​​‌‌‍​​‌‌​​‍‌‍‌​​‌​​
 ‌‌​‍​‌‍‌‍​‍‌​‌‍‌‍‌‌​​‍​​
 ‍​‍‌​‌​‌‍‌‍​‌‍‌‍‌​​‍‌​‍‌
 ‌‍‌‍​​​​‌‌​‍‌​‍‌​​‌‌‍‌‍​
 ​‌​‌‍‌‍‌​​‍​​​​‌‌​‍​​‌​​
 ​‍​‍‌‍‌‌​‌‍‌‌​​‌‍‌‌​‌‌‍‌
 ‌‌‌‍‌‍‌‌‌‍‍‌‌​​‍‌‍‌​​‌‍​
 ‌‌‌​‌‍‍​​‌‌‍​‌‍‌‍‍‌‌​‌‍‌
 ‌‌‍‍‌‌​​‍‌‌​‌‌‌​​‍‌‌‌‍‍‌
 ‍‌‌‌‍‌​‍‌‌​​‌​‌​​‍‌‌​​‌​
 ‌​​‍‌‌​​‍​​‍​​‌‌‍​​​‍​‍‌
 ​‌​​​​​‌​​‌​​‌‍‌‌​​​​​​​
 ‍‌‌​​‍​​‍​‍‌‌​‌‌‌​‌​​‍‍‌
 ‍​‌‍‍​‌‍‍‌‌‍​‌‍‌​‌​‍‌‍‌‌
 ‌‍‍​‍‌‌​‌‌‌​​‍‌‌‌‍‍‌‍‌‌‌
 ‍‌​‍‌‌​​‌​‌​​‍‌‌​​‌​‌​​‍
 ‌‌​​‍​​‍​​​‌‍​‌‌‌‍‌‌​‍​​
 ‌‌‌‍​‍​‌‌‍​‌​‌​‌‍​‍​‌​​‍
 ‌‌​​‍​​‍​‍‌‌​‌‌‌​‌​​‍‍‌‌
 ​‌‍‌‌‌‍​‌‌​​‍‌‍‌​​‌‍‌‌‌​
 ‍‌​‌​​‌‍‌‌‌‍​‌‌​‌‍‍‌‌‌‍‌
 ‍‌‌​‌‌​​‌‌‌‌‍​‍‌‍​‌‍‍‌‌​
 ‌‍‍​‌‍‌‌‌‍‌​​‍​‍‌‌\n\nThis special com
 munity event blends art\, nature\, and environmental appreciation. Guests 
 are invited to decorate a ​​​​‌‍​‍​‍‌‍‌​‍‌
 ‍‍‌‌‍‌‌‍‍‌‌‍‍​‍​‍​‍‍​‍​‍
 ‌​‌‍​‌‌‍‍‌‍‍‌‌‌​‌‍‌​‍‍‌‍
 ‍‌‌‍​‍​‍​‍​​‍​‍‌‍‍​‌​‍‌‍
 ‌‌‌‍‌‍​‍​‍​‍‍​‍​‍‌‍‍​‌‌​
 ‌‌​‌​​‌​​‍‍​‍​‍‌‍​‌‍‌‌​​
 ‍‍‌​​‌‍‌‌‌‍​‌‍‌‍‍‌‍‍‌‌‍​
 ‌‍​‌‍​‌‌‍‍‌‍‌​‌‌​‌​‍‌‌‌‌
 ​‌‌​​‍‍‌‍‌​‍‌‍‌​‍‌‍‍‌‌‍‍
 ‌‌​‌‍‌‌‌‍‍‌‌​​‍‌‍‌‌‌‍‌​‌
 ‍‍‌‌‌​​‍‌‍‌‌‍‌‍‌​‌‍‌‌​‌‌
 ​​‌​‍‌‍‌‌‌​‌‍‌‌‌‍‍‌‌​‌‍​
 ‌‌‌​‌‍‍‌‌‍‌‍‍​‍‌‍‍‌‌‍‌​​
 ‌‌‍​​‌‌​​‍‌‍‌​​‌​​‌‌​‍​‌
 ‍‌‍​‍‌​‌‍‌‍‌‌​​‍​​‍​‍‌​‌
 ​‌‍‌‍​‌‍‌‍‌​​‍‌​‍‌‌‍‌‍​​
 ​​‌‌​‍‌​‍‌​​‌‌‍‌‍​​‌​‌‍‌
 ‍‌​​‍​​​​‌‌​‍​​‌​​​‍​‍‌‌
 ​‌‍‌‌​​‌‍‌‌​‌‌‍‌‌‌‌‍‌‍‌‌
 ‌‍‍‌‌​​‍‌​​‌‍​‌‌‌​‌‍‍​​‌
 ‌‍​‌‍‌‍‍‌‌​‌‍‌‌‌‍‍‌‌​​‍‌
 ‌​‌‌‌​​‍‌‌‌‍‍‌‍‌‌‌‍‌​‍‌‌
 ​​‌​‌​​‍‌‌​​‌​‌​​‍‌‌​​‍​
 ​‍​‍​​‍‌​​‍​​​‌​‌‍​​‍​‌‍
 ‌‍​‍​‌‍‌‍​‍‌‍‌​​‍‌‌​​‍​​
 ‍​‍‌‌​‌‌‌​‌​​‍‍‌‍​‌‍‍​‌‍
 ‍‌‌‍​‌‍‌​‌​‍‌‍‌‌‌‍‍​‍‌‌​
 ‌‌‌​​‍‌‌‌‍‍‌‍‌‌‌‍‌​‍‌‌​​
 ‌​‌​​‍‌‌​​‌​‌​​‍‌‌​​‍​​‍
 ‌‍​‍​‌​​​‌‍​‌‍​‍‌‍‌‍‌‍​‍
 ​‍‌​‍‌​‌​‌‍‌​‌‍‌‌​‍‌‌​​‍
 ​​‍​‍‌‌​‌‌‌​‌​​‍‍‌‌​‌‍‌‌
 ‌‍​‌‌​​‌‍​‍‌‍​‌‌​‌‍‌‌‌‌‌
 ‌‌​‍‌‍​​‌‌‍‍​‌‌​‌‌​‌​​‌​
 ​‍‌‌​​‌​​‌​‍‌‌​​‍‌​‌‍​‍‌
 ‌​​‍‌​‌‍‌‍​‌‍‌‌​​‍‍‌​​‌‍
 ‌‌‌‍​‌‍‌‍‍‌‍‍‌‌‍​‌‍​‌‍​‌
 ‌‍‍‌‍‌​‌‌​‌​‍‌‌‌‌​‌‌​​‍‍
 ‌‍‌​‍‌‍‌​‍‌‍‌‍‍‌‌‍‌​​‌‌‍
 ​​‌‌​​‍‌‍‌​​‌​​‌‌​‍​‌‍‌‍
 ​‍‌​‌‍‌‍‌‌​​‍​​‍​‍‌​‌​‌‍
 ‌‍​‌‍‌‍‌​​‍‌​‍‌‌‍‌‍​​​​‌
 ‌​‍‌​‍‌​​‌‌‍‌‍​​‌​‌‍‌‍‌​
 ​‍​​​​‌‌​‍​​‌​​​‍​‍‌‍‌‌​
 ‌‍‌‌​​‌‍‌‌​‌‌‍‌‌‌‌‍‌‍‌‌‌
 ‍‍‌‌​​‍‌‍‌​​‌‍​‌‌‌​‌‍‍​​
 ‌‌‍​‌‍‌‍‍‌‌​‌‍‌‌‌‍‍‌‌​​‍
 ‌‌​‌‌‌​​‍‌‌‌‍‍‌‍‌‌‌‍‌​‍‌
 ‌​​‌​‌​​‍‌‌​​‌​‌​​‍‌‌​​‍
 ​​‍​‍​​‍‌​​‍​​​‌​‌‍​​‍​‌
 ‍‌‍​‍​‌‍‌‍​‍‌‍‌​​‍‌‌​​‍​
 ​‍​‍‌‌​‌‌‌​‌​​‍‍‌‍​‌‍‍​‌
 ‍‍‌‌‍​‌‍‌​‌​‍‌‍‌‌‌‍‍​‍‌‌
 ​‌‌‌​​‍‌‌‌‍‍‌‍‌‌‌‍‌​‍‌‌​
 ​‌​‌​​‍‌‌​​‌​‌​​‍‌‌​​‍​​
 ‍‌‍​‍​‌​​​‌‍​‌‍​‍‌‍‌‍‌‍​
 ‍​‍‌​‍‌​‌​‌‍‌​‌‍‌‌​‍‌‌​​
 ‍​​‍​‍‌‌​‌‌‌​‌​​‍‍‌‌​‌‍‌
 ‌‌‍​‌‌​​‍‌‍‌​​‌‍‌‌‌​‍‌​‌
 ​​‌‍‌‌‌‍​‌‌​‌‍‍‌‌‌‍‌‍‌‌​
 ‌‌​​‌‌‌‌‍​‍‌‍​‌‍‍‌‌​‌‍‍​
 ‌‍‌‌‌‍‌​​‍​‍‌‌birdhouse​​​​‌‍​
 ‍​‍‌‍‌​‍‌‍‍‌‌‍‌‌‍‍‌‌‍‍​‍
 ​‍​‍‍​‍​‍‌​‌‍​‌‌‍‍‌‍‍‌‌‌
 ​‌‍‌​‍‍‌‍‍‌‌‍​‍​‍​‍​​‍​‍
 ‌‍‍​‌​‍‌‍‌‌‌‍‌‍​‍​‍​‍‍​‍
 ​‍‌‍‍​‌‌​‌‌​‌​​‌​​‍‍​‍​‍
 ‌‍​‌‍‌‌​​‍‍‌​​‌‍‌‌‌‍​‌‍‌
 ‍‍‌‍‍‌‌‍​‌‍​‌‍​‌‌‍‍‌‍‌​‌
 ‌​‌​‍‌‌‌‌​‌‌​​‍‍‌‍‌​‍‌‍‌
 ​‍‌‍‍‌‌‍‍‌‌​‌‍‌‌‌‍‍‌‌​​‍
 ‌‍‌‌‌‍‌​‌‍‍‌‌‌​​‍‌‍‌‌‍‌‍
 ‌​‌‍‌‌​‌‌​​‌​‍‌‍‌‌‌​‌‍‌‌
 ‌‍‍‌‌​‌‍​‌‌‌​‌‍‍‌‌‍‌‍‍​‍
 ‌‍‍‌‌‍‌​​‌‌‍​​‌‌​​‍‌‍‌​​
 ‌​​‌‌​‍​‌‍‌‍​‍‌​‌‍‌‍‌‌​​
 ‍​​‍​‍‌​‌​‌‍‌‍​‌‍‌‍‌​​‍‌
 ​‍‌‌‍‌‍​​​​‌‌​‍‌​‍‌​​‌‌‍
 ‌‍​​‌​‌‍‌‍‌​​‍​​​​‌‌​‍​​
 ‌​​​‍​‍‌‌​‌‍‌‌​​‌‍‌‌​‌‌‍
 ‌‌‌‌‍‌‍‌‌‌‍‍‌‌​​‍‌​​‌‍​‌
 ‌‌​‌‍‍​​‌‌‍​‌‍‌‍‍‌‌​‌‍‌‌
 ‌‍‍‌‌​​‍‌‌​‌‌‌​​‍‌‌‌‍‍‌‍
 ‌‌‌‍‌​‍‌‌​​‌​‌​​‍‌‌​​‌​‌
 ​​‍‌‌​​‍​​‍​‍​​‍‌​​‍​​​‌
 ​‌‍​​‍​‌‍‌‍​‍​‌‍‌‍​‍‌‍‌​
 ​‍‌‌​​‍​​‍​‍‌‌​‌‌‌​‌​​‍‍
 ‌‍​‌‍‍​‌‍‍‌‌‍​‌‍‌​‌​‍‌‍‌
 ‌‌‍‍​‍‌‌​‌‌‌​​‍‌‌‌‍‍‌‍‌‌
 ‌‍‌​‍‌‌​​‌​‌​​‍‌‌​​‌​‌​​
 ‍‌‌​​‍​​‍​‌​​‌‌​‌‍‌‍​​​‍
 ​‌‍​​‌‍‌‍​‍​​​‌‌‍​​​‌​‍‌
 ‌​​‍​​‍​‍‌‌​‌‌‌​‌​​‍‍‌‌​
 ‌‍‌‌‌‍​‌‌​​‌‍​‍‌‍​‌‌​‌‍‌
 ‌‌‌‌‌‌​‍‌‍​​‌‌‍‍​‌‌​‌‌​‌
 ​​‌​​‍‌‌​​‌​​‌​‍‌‌​​‍‌​‌
 ‍​‍‌‌​​‍‌​‌‍‌‍​‌‍‌‌​​‍‍‌
 ​​‌‍‌‌‌‍​‌‍‌‍‍‌‍‍‌‌‍​‌‍​
 ‌‍​‌‌‍‍‌‍‌​‌‌​‌​‍‌‌‌‌​‌‌
 ​​‍‍‌‍‌​‍‌‍‌​‍‌‍‌‍‍‌‌‍‌​
 ​‌‌‍​​‌‌​​‍‌‍‌​​‌​​‌‌​‍​
 ‌‍‌‍​‍‌​‌‍‌‍‌‌​​‍​​‍​‍‌​
 ‌​‌‍‌‍​‌‍‌‍‌​​‍‌​‍‌‌‍‌‍​
 ​​​‌‌​‍‌​‍‌​​‌‌‍‌‍​​‌​‌‍
 ‌‍‌​​‍​​​​‌‌​‍​​‌​​​‍​‍‌
 ‍‌‌​‌‍‌‌​​‌‍‌‌​‌‌‍‌‌‌‌‍‌
 ‍‌‌‌‍‍‌‌​​‍‌‍‌​​‌‍​‌‌‌​‌
 ‍‍​​‌‌‍​‌‍‌‍‍‌‌​‌‍‌‌‌‍‍‌
 ‌​​‍‌‌​‌‌‌​​‍‌‌‌‍‍‌‍‌‌‌‍
 ‌​‍‌‌​​‌​‌​​‍‌‌​​‌​‌​​‍‌
 ‌​​‍​​‍​‍​​‍‌​​‍​​​‌​‌‍​
 ​‍​‌‍‌‍​‍​‌‍‌‍​‍‌‍‌​​‍‌‌
 ​​‍​​‍​‍‌‌​‌‌‌​‌​​‍‍‌‍​‌
 ‍‍​‌‍‍‌‌‍​‌‍‌​‌​‍‌‍‌‌‌‍‍
 ​‍‌‌​‌‌‌​​‍‌‌‌‍‍‌‍‌‌‌‍‌​
 ‍‌‌​​‌​‌​​‍‌‌​​‌​‌​​‍‌‌​
 ​‍​​‍​‌​​‌‌​‌‍‌‍​​​‍​‌‍​
 ​‌‍‌‍​‍​​​‌‌‍​​​‌​‍‌‌​​‍
 ​​‍​‍‌‌​‌‌‌​‌​​‍‍‌‌​‌‍‌‌
 ‌‍​‌‌​​‍‌‍‌​​‌‍‌‌‌​‍‌​‌​
 ​‌‍‌‌‌‍​‌‌​‌‍‍‌‌‌‍‌‍‌‌​‌
 ‌​​‌‌‌‌‍​‍‌‍​‌‍‍‌‌​‌‍‍​‌
 ‍‌‌‌‍‌​​‍​‍‌‌&nbsp\;using upcycled and natural m
 aterials\, creating a unique piece inspired by the surrounding gardens. On
 ce completed\, participants are encouraged to hang their finished birdhous
 es along the garden’s scenic ​​​​‌‍​‍​‍‌‍‌​
 ‍‌‍‍‌‌‍‌‌‍‍‌‌‍‍​‍​‍​‍‍​‍
 ​‍‌​‌‍​‌‌‍‍‌‍‍‌‌‌​‌‍‌​‍‍
 ‌‍‍‌‌‍​‍​‍​‍​​‍​‍‌‍‍​‌​‍
 ‌‍‌‌‌‍‌‍​‍​‍​‍‍​‍​‍‌‍‍​‌
 ‌​‌‌​‌​​‌​​‍‍​‍​‍‌‍​‌‍‌‌
 ​​‍‍‌​​‌‍‌‌‌‍​‌‍‌‍‍‌‍‍‌‌
 ‍​‌‍​‌‍​‌‌‍‍‌‍‌​‌‌​‌​‍‌‌
 ‌‌​‌‌​​‍‍‌‍‌​‍‌‍‌​‍‌‍‍‌‌
 ‍‍‌‌​‌‍‌‌‌‍‍‌‌​​‍‌‍‌‌‌‍‌
 ​‌‍‍‌‌‌​​‍‌‍‌‌‍‌‍‌​‌‍‌‌​
 ‌‌​​‌​‍‌‍‌‌‌​‌‍‌‌‌‍‍‌‌​‌
 ‍​‌‌‌​‌‍‍‌‌‍‌‍‍​‍‌‍‍‌‌‍‌
 ​​‌‌‍​​‌‌​​‍‌‍‌​​‌​​‌‌​‍
 ​‌‍‌‍​‍‌​‌‍‌‍‌‌​​‍​​‍​‍‌
 ​‌​‌‍‌‍​‌‍‌‍‌​​‍‌​‍‌‌‍‌‍
 ​​​​‌‌​‍‌​‍‌​​‌‌‍‌‍​​‌​‌
 ‍‌‍‌​​‍​​​​‌‌​‍​​‌​​​‍​‍
 ‌‌​‌‍‌‌​​‌‍‌‌​‌‌‍‌‌‌‌‍‌‍
 ‌‌‌‍‍‌‌​​‍‌​​‌‍​‌‌‌​‌‍‍​
 ​‌‌‍​‌‍‌‍‍‌‌​‌‍‌‌‌‍‍‌‌​​
 ‍‌‌​‌‌‌​​‍‌‌‌‍‍‌‍‌‌‌‍‌​‍
 ‌‌​​‌​‌​​‍‌‌​​‌​‌​​‍‌‌​​
 ‍​​‍​‍​​‍‌​​‍​​​‌​‌‍​​‍​
 ‌‍‌‍​‍​‌‍‌‍​‍‌‍‌​​‍‌‌​​‍
 ​​‍​‍‌‌​‌‌‌​‌​​‍‍‌‍​‌‍‍​
 ‌‍‍‌‌‍​‌‍‌​‌​‍‌‍‌‌‌‍‍​‍‌
 ‌​‌‌‌​​‍‌‌‌‍‍‌‍‌‌‌‍‌​‍‌‌
 ​​‌​‌​​‍‌‌​​‌​‌​​‍‌‌​​‍​
 ​‍​​‍​‌​​‍​‌‍​‌‌‍‌‍​​‍​‍
 ‌​‌‍‌‍​‍​‌‌​‍​‌‍​‍​‍‌‌​​
 ‍​​‍​‍‌‌​‌‌‌​‌​​‍‍‌‌​‌‍‌
 ‌‌‍​‌‌​​‌‍​‍‌‍​‌‌​‌‍‌‌‌‌
 ‌‌‌​‍‌‍​​‌‌‍‍​‌‌​‌‌​‌​​‌
 ​​‍‌‌​​‌​​‌​‍‌‌​​‍‌​‌‍​‍
 ‌‌​​‍‌​‌‍‌‍​‌‍‌‌​​‍‍‌​​‌
 ‍‌‌‌‍​‌‍‌‍‍‌‍‍‌‌‍​‌‍​‌‍​
 ‌‌‍‍‌‍‌​‌‌​‌​‍‌‌‌‌​‌‌​​‍
 ‍‌‍‌​‍‌‍‌​‍‌‍‌‍‍‌‌‍‌​​‌‌
 ‍​​‌‌​​‍‌‍‌​​‌​​‌‌​‍​‌‍‌
 ‍​‍‌​‌‍‌‍‌‌​​‍​​‍​‍‌​‌​‌
 ‍‌‍​‌‍‌‍‌​​‍‌​‍‌‌‍‌‍​​​​
 ‌‌​‍‌​‍‌​​‌‌‍‌‍​​‌​‌‍‌‍‌
 ​​‍​​​​‌‌​‍​​‌​​​‍​‍‌‍‌‌
 ​‌‍‌‌​​‌‍‌‌​‌‌‍‌‌‌‌‍‌‍‌‌
 ‌‍‍‌‌​​‍‌‍‌​​‌‍​‌‌‌​‌‍‍​
 ​‌‌‍​‌‍‌‍‍‌‌​‌‍‌‌‌‍‍‌‌​​
 ‍‌‌​‌‌‌​​‍‌‌‌‍‍‌‍‌‌‌‍‌​‍
 ‌‌​​‌​‌​​‍‌‌​​‌​‌​​‍‌‌​​
 ‍​​‍​‍​​‍‌​​‍​​​‌​‌‍​​‍​
 ‌‍‌‍​‍​‌‍‌‍​‍‌‍‌​​‍‌‌​​‍
 ​​‍​‍‌‌​‌‌‌​‌​​‍‍‌‍​‌‍‍​
 ‌‍‍‌‌‍​‌‍‌​‌​‍‌‍‌‌‌‍‍​‍‌
 ‌​‌‌‌​​‍‌‌‌‍‍‌‍‌‌‌‍‌​‍‌‌
 ​​‌​‌​​‍‌‌​​‌​‌​​‍‌‌​​‍​
 ​‍​​‍​‌​​‍​‌‍​‌‌‍‌‍​​‍​‍
 ‌​‌‍‌‍​‍​‌‌​‍​‌‍​‍​‍‌‌​​
 ‍​​‍​‍‌‌​‌‌‌​‌​​‍‍‌‌​‌‍‌
 ‌‌‍​‌‌​​‍‌‍‌​​‌‍‌‌‌​‍‌​‌
 ​​‌‍‌‌‌‍​‌‌​‌‍‍‌‌‌‍‌‍‌‌​
 ‌‌​​‌‌‌‌‍​‍‌‍​‌‍‍‌‌​‌‍‍​
 ‌‍‌‌‌‍‌​​‍​‍‌‌Wisteria Arbor​​​​‌‍
 ​‍​‍‌‍‌​‍‌‍‍‌‌‍‌‌‍‍‌‌‍‍​
 ‍​‍​‍‍​‍​‍‌​‌‍​‌‌‍‍‌‍‍‌‌
 ‌​‌‍‌​‍‍‌‍‍‌‌‍​‍​‍​‍​​‍​
 ‍‌‍‍​‌​‍‌‍‌‌‌‍‌‍​‍​‍​‍‍​
 ‍​‍‌‍‍​‌‌​‌‌​‌​​‌​​‍‍​‍​
 ‍‌‍​‌‍‌‌​​‍‍‌​​‌‍‌‌‌‍​‌‍
 ‌‍‍‌‍‍‌‌‍​‌‍​‌‍​‌‌‍‍‌‍‌​
 ‌‌​‌​‍‌‌‌‌​‌‌​​‍‍‌‍‌​‍‌‍
 ‌​‍‌‍‍‌‌‍‍‌‌​‌‍‌‌‌‍‍‌‌​​
 ‍‌‍‌‌‌‍‌​‌‍‍‌‌‌​​‍‌‍‌‌‍‌
 ‍‌​‌‍‌‌​‌‌​​‌​‍‌‍‌‌‌​‌‍‌
 ‌‌‍‍‌‌​‌‍​‌‌‌​‌‍‍‌‌‍‌‍‍​
 ‍‌‍‍‌‌‍‌​​‌‌‍​​‌‌​​‍‌‍‌​
 ​‌​​‌‌​‍​‌‍‌‍​‍‌​‌‍‌‍‌‌​
 ​‍​​‍​‍‌​‌​‌‍‌‍​‌‍‌‍‌​​‍
 ‌​‍‌‌‍‌‍​​​​‌‌​‍‌​‍‌​​‌‌
 ‍‌‍​​‌​‌‍‌‍‌​​‍​​​​‌‌​‍​
 ​‌​​​‍​‍‌‌​‌‍‌‌​​‌‍‌‌​‌‌
 ‍‌‌‌‌‍‌‍‌‌‌‍‍‌‌​​‍‌​​‌‍​
 ‌‌‌​‌‍‍​​‌‌‍​‌‍‌‍‍‌‌​‌‍‌
 ‌‌‍‍‌‌​​‍‌‌​‌‌‌​​‍‌‌‌‍‍‌
 ‍‌‌‌‍‌​‍‌‌​​‌​‌​​‍‌‌​​‌​
 ‌​​‍‌‌​​‍​​‍​‍​​‍‌​​‍​​​
 ‌​‌‍​​‍​‌‍‌‍​‍​‌‍‌‍​‍‌‍‌
 ​​‍‌‌​​‍​​‍​‍‌‌​‌‌‌​‌​​‍
 ‍‌‍​‌‍‍​‌‍‍‌‌‍​‌‍‌​‌​‍‌‍
 ‌‌‌‍‍​‍‌‌​‌‌‌​​‍‌‌‌‍‍‌‍‌
 ‌‌‍‌​‍‌‌​​‌​‌​​‍‌‌​​‌​‌​
 ​‍‌‌​​‍​​‍​‍​‌‍​‍‌‍​‍​​​
 ​​​‌‍‌​‌‍‌‌‌‍‌​‌‍‌​​​‌​​
 ‍‌‍‌‍​‍‌‌​​‍​​‍​‍‌‌​‌‌‌​
 ‌​​‍‍‌‌​‌‍‌‌‌‍​‌‌​​‌‍​‍‌
 ‍​‌‌​‌‍‌‌‌‌‌‌‌​‍‌‍​​‌‌‍‍
 ​‌‌​‌‌​‌​​‌​​‍‌‌​​‌​​‌​‍
 ‌‌​​‍‌​‌‍​‍‌‌​​‍‌​‌‍‌‍​‌
 ‍‌‌​​‍‍‌​​‌‍‌‌‌‍​‌‍‌‍‍‌‍
 ‍‌‌‍​‌‍​‌‍​‌‌‍‍‌‍‌​‌‌​‌​
 ‍‌‌‌‌​‌‌​​‍‍‌‍‌​‍‌‍‌​‍‌‍
 ‌‍‍‌‌‍‌​​‌‌‍​​‌‌​​‍‌‍‌​​
 ‌​​‌‌​‍​‌‍‌‍​‍‌​‌‍‌‍‌‌​​
 ‍​​‍​‍‌​‌​‌‍‌‍​‌‍‌‍‌​​‍‌
 ​‍‌‌‍‌‍​​​​‌‌​‍‌​‍‌​​‌‌‍
 ‌‍​​‌​‌‍‌‍‌​​‍​​​​‌‌​‍​​
 ‌​​​‍​‍‌‍‌‌​‌‍‌‌​​‌‍‌‌​‌
 ‌‍‌‌‌‌‍‌‍‌‌‌‍‍‌‌​​‍‌‍‌​​
 ‌‍​‌‌‌​‌‍‍​​‌‌‍​‌‍‌‍‍‌‌​
 ‌‍‌‌‌‍‍‌‌​​‍‌‌​‌‌‌​​‍‌‌‌
 ‍‍‌‍‌‌‌‍‌​‍‌‌​​‌​‌​​‍‌‌​
 ​‌​‌​​‍‌‌​​‍​​‍​‍​​‍‌​​‍
 ​​​‌​‌‍​​‍​‌‍‌‍​‍​‌‍‌‍​‍
 ‌‍‌​​‍‌‌​​‍​​‍​‍‌‌​‌‌‌​‌
 ​​‍‍‌‍​‌‍‍​‌‍‍‌‌‍​‌‍‌​‌​
 ‍‌‍‌‌‌‍‍​‍‌‌​‌‌‌​​‍‌‌‌‍‍
 ‌‍‌‌‌‍‌​‍‌‌​​‌​‌​​‍‌‌​​‌
 ​‌​​‍‌‌​​‍​​‍​‍​‌‍​‍‌‍​‍
 ​​​​​​‌‍‌​‌‍‌‌‌‍‌​‌‍‌​​​
 ‌​​‍‌‍‌‍​‍‌‌​​‍​​‍​‍‌‌​‌
 ‌‌​‌​​‍‍‌‌​‌‍‌‌‌‍​‌‌​​‍‌
 ‍‌​​‌‍‌‌‌​‍‌​‌​​‌‍‌‌‌‍​‌
 ‌​‌‍‍‌‌‌‍‌‍‌‌​‌‌​​‌‌‌‌‍​
 ‍‌‍​‌‍‍‌‌​‌‍‍​‌‍‌‌‌‍‌​​‍
 ​‍‌‌\, where the colorful creations will be displayed throughout t
 he day.​​​​‌‍​‍​‍‌‍‌​‍‌‍‍‌‌‍‌
 ‌‍‍‌‌‍‍​‍​‍​‍‍​‍​‍‌​‌‍​‌
 ‌‍‍‌‍‍‌‌‌​‌‍‌​‍‍‌‍‍‌‌‍​‍
 ​‍​‍​​‍​‍‌‍‍​‌​‍‌‍‌‌‌‍‌‍
 ​‍​‍​‍‍​‍​‍‌‍‍​‌‌​‌‌​‌​​
 ‌​​‍‍​‍​‍‌‍​‌‍‌‌​​‍‍‌​​‌
 ‍‌‌‌‍​‌‍‌‍‍‌‍‍‌‌‍​‌‍​‌‍​
 ‌‌‍‍‌‍‌​‌‌​‌​‍‌‌‌‌​‌‌​​‍
 ‍‌‍‌​‍‌‍‌​‍‌‍‍‌‌‍‍‌‌​‌‍‌
 ‌‌‍‍‌‌​​‍‌‍‌‌‌‍‌​‌‍‍‌‌‌​
 ​‍‌‍‌‌‍‌‍‌​‌‍‌‌​‌‌​​‌​‍‌
 ‍‌‌‌​‌‍‌‌‌‍‍‌‌​‌‍​‌‌‌​‌‍
 ‍‌‌‍‌‍‍​‍‌‍‍‌‌‍‌​​‌‌‍​​‌
 ‌​​‍‌‍‌​​‌​​‌‌​‍​‌‍‌‍​‍‌
 ​‌‍‌‍‌‌​​‍​​‍​‍‌​‌​‌‍‌‍​
 ‌‍‌‍‌​​‍‌​‍‌‌‍‌‍​​​​‌‌​‍
 ‌​‍‌​​‌‌‍‌‍​​‌​‌‍‌‍‌​​‍​
 ​​​‌‌​‍​​‌​​​‍​‍‌‌​‌‍‌‌​
 ​‌‍‌‌​‌‌‍‌‌‌‌‍‌‍‌‌‌‍‍‌‌​
 ​‍‌​​‌‍​‌‌‌​‌‍‍​​‌‌‍​‌‍‌
 ‍‍‌‌​‌‍‌‌‌‍‍‌‌​​‍‌‌​‌‌‌​
 ​‍‌‌‌‍‍‌‍‌‌‌‍‌​‍‌‌​​‌​‌​
 ​‍‌‌​​‌​‌​​‍‌‌​​‍​​‍​‍​​
 ‍‌​​‍​​​‌​‌‍​​‍​‌‍‌‍​‍​‌
 ‍‌‍​‍‌‍‌​​‍‌‌​​‍​​‍​‍‌‌​
 ‌‌‌​‌​​‍‍‌‍​‌‍‍​‌‍‍‌‌‍​‌
 ‍‌​‌​‍‌‍‌‌‌‍‍​‍‌‌​‌‌‌​​‍
 ‌‌‌‍‍‌‍‌‌‌‍‌​‍‌‌​​‌​‌​​‍
 ‌‌​​‌​‌​​‍‌‌​​‍​​‍‌‍‌‌‌‍
 ‌‍​​‌‍‌‌​‌​‍​​‌‌‍‌‍‌‍‌​​
 ‌‍​‌‍​‌‌​‍‌‌​​‍​​‍​‍‌‌​‌
 ‌‌​‌​​‍‍‌‌​‌‍‌‌‌‍​‌‌​​‌‍
 ​‍‌‍​‌‌​‌‍‌‌‌‌‌‌‌​‍‌‍​​‌
 ‌‍‍​‌‌​‌‌​‌​​‌​​‍‌‌​​‌​​
 ‌​‍‌‌​​‍‌​‌‍​‍‌‌​​‍‌​‌‍‌
 ‍​‌‍‌‌​​‍‍‌​​‌‍‌‌‌‍​‌‍‌‍
 ‍‌‍‍‌‌‍​‌‍​‌‍​‌‌‍‍‌‍‌​‌‌
 ​‌​‍‌‌‌‌​‌‌​​‍‍‌‍‌​‍‌‍‌​
 ‍‌‍‌‍‍‌‌‍‌​​‌‌‍​​‌‌​​‍‌‍
 ‌​​‌​​‌‌​‍​‌‍‌‍​‍‌​‌‍‌‍‌
 ‌​​‍​​‍​‍‌​‌​‌‍‌‍​‌‍‌‍‌​
 ​‍‌​‍‌‌‍‌‍​​​​‌‌​‍‌​‍‌​​
 ‌‌‍‌‍​​‌​‌‍‌‍‌​​‍​​​​‌‌​
 ‍​​‌​​​‍​‍‌‍‌‌​‌‍‌‌​​‌‍‌
 ‌​‌‌‍‌‌‌‌‍‌‍‌‌‌‍‍‌‌​​‍‌‍
 ‌​​‌‍​‌‌‌​‌‍‍​​‌‌‍​‌‍‌‍‍
 ‌‌​‌‍‌‌‌‍‍‌‌​​‍‌‌​‌‌‌​​‍
 ‌‌‌‍‍‌‍‌‌‌‍‌​‍‌‌​​‌​‌​​‍
 ‌‌​​‌​‌​​‍‌‌​​‍​​‍​‍​​‍‌
 ​​‍​​​‌​‌‍​​‍​‌‍‌‍​‍​‌‍‌
 ‍​‍‌‍‌​​‍‌‌​​‍​​‍​‍‌‌​‌‌
 ‌​‌​​‍‍‌‍​‌‍‍​‌‍‍‌‌‍​‌‍‌
 ​‌​‍‌‍‌‌‌‍‍​‍‌‌​‌‌‌​​‍‌‌
 ‌‍‍‌‍‌‌‌‍‌​‍‌‌​​‌​‌​​‍‌‌
 ​​‌​‌​​‍‌‌​​‍​​‍‌‍‌‌‌‍‌‍
 ​​‌‍‌‌​‌​‍​​‌‌‍‌‍‌‍‌​​‌‍
 ​‌‍​‌‌​‍‌‌​​‍​​‍​‍‌‌​‌‌‌
 ​‌​​‍‍‌‌​‌‍‌‌‌‍​‌‌​​‍‌‍‌
 ​​‌‍‌‌‌​‍‌​‌​​‌‍‌‌‌‍​‌‌​
 ‌‍‍‌‌‌‍‌‍‌‌​‌‌​​‌‌‌‌‍​‍‌
 ‍​‌‍‍‌‌​‌‍‍​‌‍‌‌‌‍‌​​‍​‍
 ‌‌\n\nhttps://give.peconiclandtrust.org/event/earth-day-birdhouse-deco
 rating-event/e777308
ATTACH;FMTTYPE=image/jpeg:https://hamptons.com/wp-content/uploads/2026/04/
 bird-house-decorating.jpg
END:VEVENT
BEGIN:VTIMEZONE
TZID:America/New_York
X-LIC-LOCATION:America/New_York
BEGIN:DAYLIGHT
DTSTART:20260308T030000
TZOFFSETFROM:-0500
TZOFFSETTO:-0400
TZNAME:EDT
END:DAYLIGHT
END:VTIMEZONE
END:VCALENDAR