BEGIN:VCALENDAR
VERSION:2.0
PRODID:-//wp-events-plugin.com//7.2.3.1//EN
TZID:America/New_York
X-WR-TIMEZONE:America/New_York
BEGIN:VEVENT
UID:302@hamptons.com
DTSTART;TZID=America/New_York:20260530T140000
DTEND;TZID=America/New_York:20260530T153000
DTSTAMP:20260408T133602Z
URL:https://hamptons.com/events/east-hampton-music-series-presents-tal-nac
 carato-live-unplugged/
SUMMARY:East Hampton Music Series Presents: Tal Naccarato\, LIVE! Unplugged
DESCRIPTION:Italo ‘Tal’ Naccarato\, the composer\, songwriter\, teachin
 g artist\, and instrumentalist\, was born in the medieval mountain village
  of Fiumefreddo Bruzio in Calabria\, Italy\, and raised in East Flatbush\,
  Brooklyn. His stylized original work\, highlighting a deep appreciation f
 or traditional Folk and Americana Roots music\, is steeped heavily in Rock
  and Blues and includes his original classical guitar-inspired composition
 s\, performed with a 'bluesy swing’.\n\nRegister for this Free Concert h
 ere: https://easthampton.librarycalendar.com/event/east-hampton-music-seri
 es-presents-tal-naccarato-live-unplugged-581
ATTACH;FMTTYPE=image/jpeg:https://hamptons.com/wp-content/uploads/2025/03/
 annie-trezza-stephen-talkhouse.jpg
LOCATION:East Hampton Library\, 159 Main St\, East Hampton\, NY\, United St
 ates
X-APPLE-STRUCTURED-LOCATION;VALUE=URI;X-ADDRESS=159 Main St\, East Hampton\
 , NY\, United States;X-APPLE-RADIUS=100;X-TITLE=East Hampton Library:geo:0
 ,0
END:VEVENT
BEGIN:VTIMEZONE
TZID:America/New_York
X-LIC-LOCATION:America/New_York
BEGIN:DAYLIGHT
DTSTART:20260308T030000
TZOFFSETFROM:-0500
TZOFFSETTO:-0400
TZNAME:EDT
END:DAYLIGHT
END:VTIMEZONE
END:VCALENDAR