BEGIN:VCALENDAR
VERSION:2.0
PRODID:-//wp-events-plugin.com//7.2.3.1//EN
TZID:America/New_York
X-WR-TIMEZONE:America/New_York
BEGIN:VEVENT
UID:221@hamptons.com
DTSTART;TZID=America/New_York:20260404T120000
DTEND;TZID=America/New_York:20260405T180000
DTSTAMP:20260327T185807Z
URL:https://hamptons.com/events/easter-at-kidd-squid/
SUMMARY:Easter at KIDD SQUID
DESCRIPTION:Easter Bunny with treat filled eggs 1-3pm Saturday 4/5 and Sund
 ay 5/5\nlive music w Annie Trezza Saturday 3pm\n\nLong Island Oyster Growe
 rs Association- post beach clean up celebration Saturday 3-5pm\n\nwww.kidd
 squid.com
ATTACH;FMTTYPE=image/jpeg:https://hamptons.com/wp-content/uploads/2026/03/
 kidd-squid-east-erbunny.jpeg
LOCATION:KIDD SQUID\, 11 Spring St\, Sag Harbor\, NY\, United States
X-APPLE-STRUCTURED-LOCATION;VALUE=URI;X-ADDRESS=11 Spring St\, Sag Harbor\,
  NY\, United States;X-APPLE-RADIUS=100;X-TITLE=KIDD SQUID:geo:0,0
END:VEVENT
BEGIN:VTIMEZONE
TZID:America/New_York
X-LIC-LOCATION:America/New_York
BEGIN:DAYLIGHT
DTSTART:20260308T030000
TZOFFSETFROM:-0500
TZOFFSETTO:-0400
TZNAME:EDT
END:DAYLIGHT
END:VTIMEZONE
END:VCALENDAR