BEGIN:VCALENDAR
VERSION:2.0
PRODID:-//wp-events-plugin.com//7.2.3.1//EN
TZID:America/New_York
X-WR-TIMEZONE:America/New_York
BEGIN:VEVENT
UID:393@hamptons.com
DTSTART;TZID=America/New_York:20260425T170000
DTEND;TZID=America/New_York:20260425T190000
DTSTAMP:20260422T131117Z
URL:https://hamptons.com/events/exhibition-opening-reflections-of-america-
 student-perspectives-at-250/
SUMMARY:Exhibition Opening: Reflections of America: Student Perspectives at
  250
DESCRIPTION:Saturday\, April 25\, 5-7PM I FREE EVENT\n\nJoin us as the Sag 
 Harbor Whaling Museum welcomes back Pierson High School art students as th
 ey share their work in this year’s exhibition\, Reflections of America: 
 Student Perspectives at 250. This creative display of artwork\, produced b
 y some of Pierson’s most talented students\, celebrates the 250th annive
 rsary of the United States and will be on display in our main gallery from
  April 18 to May 3. The Opening Reception on Saturday\, April 25\, 5PM-7PM
 \, is free to attend\, so come meet the artists and view their inspiring w
 ork. Light refreshments will be served.
ATTACH;FMTTYPE=image/jpeg:https://hamptons.com/wp-content/uploads/2026/04/
 PIERSON-ART-small.jpg
LOCATION:Sag Harbor Whaling &amp\; Historical Museum\, 200 Main Street\, Sa
 g Harbor\, NY\, 11963 \, United States
X-APPLE-STRUCTURED-LOCATION;VALUE=URI;X-ADDRESS=200 Main Street\, Sag Harbo
 r\, NY\, 11963 \, United States;X-APPLE-RADIUS=100;X-TITLE=Sag Harbor Whal
 ing & Historical Museum:geo:0,0
END:VEVENT
BEGIN:VTIMEZONE
TZID:America/New_York
X-LIC-LOCATION:America/New_York
BEGIN:DAYLIGHT
DTSTART:20260308T030000
TZOFFSETFROM:-0500
TZOFFSETTO:-0400
TZNAME:EDT
END:DAYLIGHT
END:VTIMEZONE
END:VCALENDAR