BEGIN:VCALENDAR
VERSION:2.0
PRODID:-//wp-events-plugin.com//7.2.3.1//EN
TZID:America/New_York
X-WR-TIMEZONE:America/New_York
BEGIN:VEVENT
UID:265@hamptons.com
DTSTART;TZID=America/New_York:20260404T120000
DTEND;TZID=America/New_York:20260523T130000
DTSTAMP:20260402T131152Z
URL:https://hamptons.com/events/exhibition-tours-upside-down-zebra/
SUMMARY:EXHIBITION TOURS | UPSIDE DOWN ZEBRA
DESCRIPTION:Join us for FREE guided tours of UPSIDE DOWN ZEBRA\, a major gr
 oup exhibition at The Watermill Center.\n\nUpside Down Zebra explores the 
 artistic value of children’s imagination\, its inherent role in cognitiv
 e development\, and its profound influence on contemporary art. Curated by
  artist Brian Belott and Watermill curator Noah Khoshbin\, in collaboratio
 n with early childhood specialist Jennifer DiGioia\, the exhibition featur
 es approximately 900 works from the Rhoda Kellogg International Child Art 
 Collection alongside 40 contemporary artists whose works engage directly w
 ith Kellogg’s archive. At a moment when self-expression is more vital th
 an ever\, Upside Down Zebra offers a radical reexamination of artistic val
 ue and human cognition that prioritizes collaboration\, spontaneity\, and 
 the untamed joy of creation.\n\nReserve your spot today here: https://tiny
 url.com/5efxv6p2
ATTACH;FMTTYPE=image/jpeg:https://hamptons.com/wp-content/uploads/2026/04/
 Screenshot-2026-04-01-at-6.12.32-PM.png
LOCATION:The Watermill Center\, 39 Watermill Towd Road\, Water Mill\, NY\, 
 United States
X-APPLE-STRUCTURED-LOCATION;VALUE=URI;X-ADDRESS=39 Watermill Towd Road\, Wa
 ter Mill\, NY\, United States;X-APPLE-RADIUS=100;X-TITLE=The Watermill Cen
 ter:geo:0,0
END:VEVENT
BEGIN:VTIMEZONE
TZID:America/New_York
X-LIC-LOCATION:America/New_York
BEGIN:DAYLIGHT
DTSTART:20260308T030000
TZOFFSETFROM:-0500
TZOFFSETTO:-0400
TZNAME:EDT
END:DAYLIGHT
END:VTIMEZONE
END:VCALENDAR