BEGIN:VCALENDAR
VERSION:2.0
PRODID:-//wp-events-plugin.com//7.2.3.1//EN
TZID:America/New_York
X-WR-TIMEZONE:America/New_York
BEGIN:VEVENT
UID:220@hamptons.com
DTSTART;TZID=America/New_York:20260514T100000
DTEND;TZID=America/New_York:20260615T123000
DTSTAMP:20260327T184922Z
URL:https://hamptons.com/events/explore-printmaking-techniques-stamp-print
 ing-rubbings-stenciling-and-monoprinting-with-dr-quincy-egginton/
SUMMARY:Explore Printmaking Techniques: Stamp printing\, Rubbings\, Stencil
 ing and Monoprinting with Dr. Quincy Egginton
DESCRIPTION:You are invited to experiment with basic printmaking techniques
  offering freedom of expression and surprising results. All materials will
  be supplied in the four classes as we focus on various processes and enjo
 y the creative results.\n\nClass 1.&nbsp\;&nbsp\; Letter forms and found o
 bjects will be used to stamp print onto a large piece of paper which will 
 serve as a portfolio for all the prints you create during the course.\n\nC
 lass 2.&nbsp\; We will use a variety of surfaces and the process of rubbin
 g to create a self-portrait image.\n\nClass 3.&nbsp\; Stencils will be cut
  from card stock\, and you will stencil a design using paint and stencil b
 rushes.\n\nClass 4.&nbsp\; Monoprinting is a process of painting on a piec
 e of plexiglass\, laying your paper on top\, rubbing and lifting to produc
 e print. Numerous prints can be made from the same plate.\n\nLearn about t
 hese printmaking processes.&nbsp\; Experiment and discover the excitement 
 of printmaking and enjoy working in a class with others to see the varied 
 results that can be achieved.\n\nRSVP at https://www.bridgehamptonmuseum.o
 rg/service-page/explore-printmaking-techniques
ATTACH;FMTTYPE=image/jpeg:https://hamptons.com/wp-content/uploads/2026/03/
 5.-print-making-SMALL.jpg
LOCATION:The Nathaniel Rogers House\, 2539 Montauk Highway\, Bridgehampton\
 , New York\, 11932\, United States
X-APPLE-STRUCTURED-LOCATION;VALUE=URI;X-ADDRESS=2539 Montauk Highway\, Brid
 gehampton\, New York\, 11932\, United States;X-APPLE-RADIUS=100;X-TITLE=Th
 e Nathaniel Rogers House:geo:0,0
END:VEVENT
BEGIN:VTIMEZONE
TZID:America/New_York
X-LIC-LOCATION:America/New_York
BEGIN:DAYLIGHT
DTSTART:20260308T030000
TZOFFSETFROM:-0500
TZOFFSETTO:-0400
TZNAME:EDT
END:DAYLIGHT
END:VTIMEZONE
END:VCALENDAR