BEGIN:VCALENDAR
VERSION:2.0
PRODID:-//wp-events-plugin.com//7.2.3.1//EN
TZID:America/New_York
X-WR-TIMEZONE:America/New_York
BEGIN:VEVENT
UID:368@hamptons.com
DTSTART;TZID=America/New_York:20260501T190000
DTEND;TZID=America/New_York:20260501T203000
DTSTAMP:20260421T180705Z
URL:https://hamptons.com/events/feel-good-films-pee-wees-big-adventure/
SUMMARY:Feel Good Films: Pee Wee's Big Adventure
DESCRIPTION:Guild Hall’s Feel Good Films series continues\, bringing the 
 joyful absurdity of&nbsp\;Pee-Wee’s Big Adventure&nbsp\;to the big scree
 n. When Pee-Wee Herman’s beloved bicycle is stolen\, he embarks on a wil
 dly imaginative cross-country quest to get it back. Packed with quirky hum
 or and unforgettable moments\, this quotable cult classic promises big lau
 ghs and pure moviegoing fun.
ATTACH;FMTTYPE=image/jpeg:https://hamptons.com/wp-content/uploads/2026/04/
 peeweesbigadventure-550x412-1.jpg
LOCATION:Guild Hall\, 158 Main Street\, East Hampton\, New York\, 11937\, U
 nited States
X-APPLE-STRUCTURED-LOCATION;VALUE=URI;X-ADDRESS=158 Main Street\, East Hamp
 ton\, New York\, 11937\, United States;X-APPLE-RADIUS=100;X-TITLE=Guild Ha
 ll:geo:0,0
END:VEVENT
BEGIN:VTIMEZONE
TZID:America/New_York
X-LIC-LOCATION:America/New_York
BEGIN:DAYLIGHT
DTSTART:20260308T030000
TZOFFSETFROM:-0500
TZOFFSETTO:-0400
TZNAME:EDT
END:DAYLIGHT
END:VTIMEZONE
END:VCALENDAR