BEGIN:VCALENDAR
VERSION:2.0
PRODID:-//wp-events-plugin.com//7.2.3.1//EN
TZID:America/New_York
X-WR-TIMEZONE:America/New_York
BEGIN:VEVENT
UID:157@hamptons.com
DTSTART;TZID=America/New_York:20260424T190000
DTEND;TZID=America/New_York:20260424T210000
DTSTAMP:20260324T205621Z
URL:https://hamptons.com/events/hampton-ballet-theatre-school-presents-sle
 eping-beauty/
SUMMARY:Hampton Ballet Theatre School Presents Sleeping Beauty
DESCRIPTION:The Hampton Ballet Theatre School (HBTS) is excited to present 
 their Spring 2026 ballet\, Pyotr Ilyich Tchaikovsky’s Sleeping Beauty. H
 BTS will premiere the timeless tale of Sleeping Beauty on Friday\, April 2
 4th at 7:00 p.m.\, Saturday\, April 25th at 1:00 p.m. and 7:00 p.m. and Su
 nday\, April 26th at 2:00 p.m. at Guild Hall’s beautiful Hilarie and Mit
 chell Morgan Theater located at 158 Main Street in East Hampton.\n\nAdvanc
 e ticket prices range from $25-$50 and day of performance ticket prices ra
 nge from $30 - $55\, depending on the designated section. Premium\, orches
 tra and balcony seats are available at rates for children (under 12 years 
 of age) and adults.&nbsp\; Group rates for all performances are available 
 for groups consisting of 10 or more people. Tickets will go on sale April 
 1.
ATTACH;FMTTYPE=image/jpeg:https://hamptons.com/wp-content/uploads/2025/06/
 tiler-peck-balletjpg.jpg
LOCATION:Guild Hall’s Hilarie and Mitchell Morgan Theater\, 158 Main Stre
 et\, East Hampton\, NY\, 11937\, NY\, United States
X-APPLE-STRUCTURED-LOCATION;VALUE=URI;X-ADDRESS=158 Main Street\, East Hamp
 ton\, NY\, 11937\, NY\, United States;X-APPLE-RADIUS=100;X-TITLE=Guild Hal
 l’s Hilarie and Mitchell Morgan Theater:geo:0,0
END:VEVENT
BEGIN:VTIMEZONE
TZID:America/New_York
X-LIC-LOCATION:America/New_York
BEGIN:DAYLIGHT
DTSTART:20260308T030000
TZOFFSETFROM:-0500
TZOFFSETTO:-0400
TZNAME:EDT
END:DAYLIGHT
END:VTIMEZONE
END:VCALENDAR