BEGIN:VCALENDAR
VERSION:2.0
PRODID:-//wp-events-plugin.com//7.2.3.1//EN
TZID:America/New_York
X-WR-TIMEZONE:America/New_York
BEGIN:VEVENT
UID:367@hamptons.com
DTSTART;TZID=America/New_York:20260430T190000
DTEND;TZID=America/New_York:20260430T203000
DTSTAMP:20260421T181100Z
URL:https://hamptons.com/events/in-process-holland-andrews-yuniya-edi-kwon
 -how-does-it-feel-to-look-at-nothing/
SUMMARY:In- Process: Holland Andrews &amp\; Yuniya Edi Kwon - How Does It F
 eel To Look At Nothing
DESCRIPTION:Guild Hall William P. Rayner Artists-in-Residence Holland Andre
 ws and yuniya edi kwon share an in-process presentation of their experimen
 tal opera\,&nbsp\;How does it feel to look at nothing.\n\nHOW DOES IT FEEL
  TO LOOK AT NOTHING is an experimental opera and embodied pre-origin story
  of a Deity of Nothingness. Working through an improvised language of disi
 ntegration\, the project blends composition\, improvisation\, movement\, a
 nd ritual to explore the forces and conditions that compel life’s emerge
 nce\, and the spiritual act of meaning-making during epochs of decay.&nbsp
 \;\n\nThe in-process showing offers a glimpse into the evolving performanc
 e language of the work\, as Holland and yuniya appear as composer-performe
 rs\, soloists\, and multi-instrumentalists.&nbsp\;
ATTACH;FMTTYPE=image/jpeg:https://hamptons.com/wp-content/uploads/2026/04/
 Andrews-kwon-How-does-it-feel-Horizontal-credit-Lindsay-Morris_16088912399
 161555185.jpg-550x412-1.jpg
LOCATION:Guild Hall\, 158 Main St\, East Hampton\, NY\, 11937-2721\, United
  States
X-APPLE-STRUCTURED-LOCATION;VALUE=URI;X-ADDRESS=158 Main St\, East Hampton\
 , NY\, 11937-2721\, United States;X-APPLE-RADIUS=100;X-TITLE=Guild Hall:ge
 o:0,0
END:VEVENT
BEGIN:VTIMEZONE
TZID:America/New_York
X-LIC-LOCATION:America/New_York
BEGIN:DAYLIGHT
DTSTART:20260308T030000
TZOFFSETFROM:-0500
TZOFFSETTO:-0400
TZNAME:EDT
END:DAYLIGHT
END:VTIMEZONE
END:VCALENDAR