BEGIN:VCALENDAR
VERSION:2.0
PRODID:-//wp-events-plugin.com//7.2.3.1//EN
TZID:America/New_York
X-WR-TIMEZONE:America/New_York
BEGIN:VEVENT
UID:144@hamptons.com
DTSTART;TZID=America/New_York:20260403T180000
DTEND;TZID=America/New_York:20260403T193000
DTSTAMP:20260324T205320Z
URL:https://hamptons.com/events/knowledge-friday-with-andrew-visconti/
SUMMARY:Knowledge Friday with Andrew Visconti
DESCRIPTION:From newsroom to jail. Andrew Visconti’s fascinating journey 
 started in journalism and evolved into a memoir writing program for incarc
 erated individuals. Join us for this very special Knowledge Friday in whic
 h Visconti talks about the experience he gained working with inmates. Sinc
 e 2023\, he has led workshops that foster personal growth behind bars and 
 uses storytelling to guide transformation among the incarcerated populatio
 n.
ATTACH;FMTTYPE=image/jpeg:https://hamptons.com/wp-content/uploads/2026/03/
 Visconti-HCom-e1774385594800.jpg
LOCATION:The Church\, 48 Madison St\, Sag Harbor\, NY\, 11963\, Hamptons\, 
 United States
X-APPLE-STRUCTURED-LOCATION;VALUE=URI;X-ADDRESS=48 Madison St\, Sag Harbor\
 , NY\, 11963\, Hamptons\, United States;X-APPLE-RADIUS=100;X-TITLE=The Chu
 rch:geo:0,0
END:VEVENT
BEGIN:VTIMEZONE
TZID:America/New_York
X-LIC-LOCATION:America/New_York
BEGIN:DAYLIGHT
DTSTART:20260308T030000
TZOFFSETFROM:-0500
TZOFFSETTO:-0400
TZNAME:EDT
END:DAYLIGHT
END:VTIMEZONE
END:VCALENDAR