BEGIN:VCALENDAR
VERSION:2.0
PRODID:-//wp-events-plugin.com//7.2.3.1//EN
TZID:America/New_York
X-WR-TIMEZONE:America/New_York
BEGIN:VEVENT
UID:383@hamptons.com
DTSTART;TZID=America/New_York:20260426T140000
DTEND;TZID=America/New_York:20260426T160000
DTSTAMP:20260421T181306Z
URL:https://hamptons.com/events/matcha-mahjong-with-hamptons-mahj-at-sett-
 coffee/
SUMMARY:Matcha &amp\; Mahjong with Hamptons Mahj at Sett Coffee
DESCRIPTION:Sett Coffee is hosting Matcha &amp\; Mahjong with Hamptons Mahj
  on Sunday\, April 26\; Sunday\, May 3\; and Sunday\, May 17 from 2 to 4 p
 .m. The beginner-friendly experience includes an intro to Mahjong\, NMJL 2
 026 Card and rules + guided play. Cost is $75 per person\, and includes dr
 inks\, pastries\, mimosas and a full lesson. Limited space is available to
  register please visit hamptonsmahj.co 
ATTACH;FMTTYPE=image/jpeg:https://hamptons.com/wp-content/uploads/2026/04/
 matcha-mahjong-e1776795168433.png
LOCATION:Sett Coffee\, 136 Main St\, Amagansett\, NY\, 11930\, United State
 s
X-APPLE-STRUCTURED-LOCATION;VALUE=URI;X-ADDRESS=136 Main St\, Amagansett\, 
 NY\, 11930\, United States;X-APPLE-RADIUS=100;X-TITLE=Sett Coffee:geo:0,0
END:VEVENT
BEGIN:VTIMEZONE
TZID:America/New_York
X-LIC-LOCATION:America/New_York
BEGIN:DAYLIGHT
DTSTART:20260308T030000
TZOFFSETFROM:-0500
TZOFFSETTO:-0400
TZNAME:EDT
END:DAYLIGHT
END:VTIMEZONE
END:VCALENDAR