BEGIN:VCALENDAR
VERSION:2.0
PRODID:-//wp-events-plugin.com//7.2.3.1//EN
TZID:America/New_York
X-WR-TIMEZONE:America/New_York
BEGIN:VEVENT
UID:365@hamptons.com
DTSTART;TZID=America/New_York:20260418T170000
DTEND;TZID=America/New_York:20260418T190000
DTSTAMP:20260418T201114Z
URL:https://hamptons.com/events/materials-speak/
SUMMARY:Materials Speak
DESCRIPTION:Given the diversity of artists\, audiences\, materials\, landsc
 ape\, and the rich culture to be found on the East End\, we happily presen
 t Materials Speak&nbsp\;at the Bridgehampton Museum. The exhibition consis
 ts of artwork being created in or having an association with the East End 
 of Long Island. Materials Speak includes a broad spectrum of artists\, man
 y of whom are locally familiar and well-known as well as others who have q
 uieter studio practices. The thread that runs through the exhibition is a 
 demonstration of the way the artists use materials. In other words\, how t
 hey follow the sociologist Marshall McLuhan‘s adage\, "The Medium is the
  Message."
ATTACH;FMTTYPE=image/jpeg:https://hamptons.com/wp-content/uploads/2026/04/
 exhibit-smaller-image-7-e1776543037539.png
LOCATION:The Nathaniel Rogers House\, 2539 Montauk Highway\, Bridgehampton\
 , New York\, 11932\, United States
X-APPLE-STRUCTURED-LOCATION;VALUE=URI;X-ADDRESS=2539 Montauk Highway\, Brid
 gehampton\, New York\, 11932\, United States;X-APPLE-RADIUS=100;X-TITLE=Th
 e Nathaniel Rogers House:geo:0,0
END:VEVENT
BEGIN:VTIMEZONE
TZID:America/New_York
X-LIC-LOCATION:America/New_York
BEGIN:DAYLIGHT
DTSTART:20260308T030000
TZOFFSETFROM:-0500
TZOFFSETTO:-0400
TZNAME:EDT
END:DAYLIGHT
END:VTIMEZONE
END:VCALENDAR