BEGIN:VCALENDAR
VERSION:2.0
PRODID:-//wp-events-plugin.com//7.2.3.1//EN
TZID:America/New_York
X-WR-TIMEZONE:America/New_York
BEGIN:VEVENT
UID:98@hamptons.com
DTSTART;TZID=America/New_York:20260405T150000
DTEND;TZID=America/New_York:20260405T160000
DTSTAMP:20260321T161223Z
URL:https://hamptons.com/events/montauk-chamber-orchestra-easter-concert/
SUMMARY:Montauk Chamber Orchestra Easter Concert
DESCRIPTION:The Montauk Chamber Orchestra invites you to celebrate the joy 
 of Easter and&nbsp\;the arrival of spring with our Spring Concert!\nOur fe
 atured soloist is acclaimed Peruvian-American violinist Bryan Hernandez-Lu
 ch\, who will play Vivaldi’s “Spring” and he will be joined by fello
 w violinist Garry Ianco as co-soloist in the Bach Double Violin Concerto.\
 n&nbsp\;\n\nThis intimate concert in the serene setting of St. Therese of 
 Lisieux is the perfect way to welcome spring and reflect on the season's t
 hemes of hope and rebirth.\n&nbsp\;\nAdmission is free\, and donations to 
 support the orchestra are warmly appreciated.\n&nbsp\;\nWe look forward to
  sharing this special afternoon of music with you. Bring friends and famil
 y (and especially children!) for an uplifting Easter weekend experience in
  beautiful Montauk.\n
ATTACH;FMTTYPE=image/jpeg:https://hamptons.com/wp-content/uploads/2026/03/
 fiddle-concert.jpg
LOCATION:St. Therese of Lisieux Catholic Church\, 67 S Essex St #5027\, Mon
 tauk\, NY 11954\, Montauk\, NY\, 11954\, United States
X-APPLE-STRUCTURED-LOCATION;VALUE=URI;X-ADDRESS=67 S Essex St #5027\, Monta
 uk\, NY 11954\, Montauk\, NY\, 11954\, United States;X-APPLE-RADIUS=100;X-
 TITLE=St. Therese of Lisieux Catholic Church:geo:0,0
END:VEVENT
BEGIN:VTIMEZONE
TZID:America/New_York
X-LIC-LOCATION:America/New_York
BEGIN:DAYLIGHT
DTSTART:20260308T030000
TZOFFSETFROM:-0500
TZOFFSETTO:-0400
TZNAME:EDT
END:DAYLIGHT
END:VTIMEZONE
END:VCALENDAR