BEGIN:VCALENDAR
VERSION:2.0
PRODID:-//wp-events-plugin.com//7.2.3.1//EN
TZID:America/New_York
X-WR-TIMEZONE:America/New_York
BEGIN:VEVENT
UID:333@hamptons.com
DTSTART;TZID=America/New_York:20260510T080000
DTEND;TZID=America/New_York:20260510T140000
DTSTAMP:20260416T182412Z
URL:https://hamptons.com/events/mothers-day-brunch-at-the-hampton-maid/
SUMMARY:Mother's Day Brunch at The Hampton Maid
DESCRIPTION:The Hampton Maid &nbsp\;&nbsp\;(https://www.hamptonmaid.com/rai
 re) has announced they will celebrate Mother’s Day with a special brunch
  prix fixe menu on Sunday\, May 10 from 8 a.m. to 2 p.m. The menu will hig
 hlight seasonal selections and house specialties\, designed for enjoying t
 ime\, without the rush. Cost is $50 per person for adults and $20 for chil
 dren and includes coffee and tea\, plus tax and gratuity. Reservations are
  recommended and can be made by visiting https://www.hamptonmaid.com/ or b
 y calling the restaurant directly at 631-728-4166 #3. The menu\, subject t
 o change\, includes:\n\nChoice of: Chilled juice or fruit medley\n\n&nbsp\
 ;\n\nChoice of one entrée:\n\nIncludes coffee or tea\n\n&nbsp\;\n\nTradit
 ional Eggs Benedict\n\nCanadian bacon\, poached eggs\, hollandaise sauce o
 n a toasted English muffin\, served with home fries\n\n&nbsp\;\n\nWild Mus
 hroom Omelette\n\nMixed mushrooms\, shallots and goat cheese served with t
 oast &amp\; home fried potatoes\n\n&nbsp\;\n\nLemon Ricotta Pancakes\n\nWi
 th fresh berries and whipped lemon mascarpone creme\n\n&nbsp\;\n\nWestern 
 Omelette\n\nDiced ham\, tri-colored peppers\, onions\, toast and home frie
 d potatoes\n\n&nbsp\;\n\nWild Maine Blueberry Pancakes\n\nWith choice of b
 acon or sausage\n\n&nbsp\;\n\nBLT Sandwich\n\nBacon\, lettuce\, tomato\, a
 vocado\, fried egg and brava sauce on multigrain toast\, served with home 
 fried potatoes\n\n&nbsp\;\n\nGrilled Filet Mignon\n\nTwo eggs any style\, 
 sautéed with mushrooms and onions\, served with toast and home fried pota
 toes +$15\n\n&nbsp\;\n\nHomemade Corned Beef Hash\n\nTwo eggs any style\, 
 toast and home fried potatoes\n\n&nbsp\;\n\nAVO Smash\n\nSmashed avocado o
 n rustic sourdough\, poached eggs and chimichurri drizzle\n\n&nbsp\;\n\nAm
 ish Cheddar Cheese Omelette\n\nSide of herb roasted tomato\, toast and hom
 e fried potatoes\n\n&nbsp\;\n\nPancakes or Brioche French Toast\n\nWith tw
 o eggs any style &amp\; home fried potatoes\n\n&nbsp\;\n\nNova Benedict\n\
 nSmoked salmon\, poached eggs\, hollandaise sauce on English muffin\, serv
 ed with home fried potatoes\n\n&nbsp\;\n\nBreakfast Burger\n\nHouse ground
  prime meat and chorizo\, American cheese\, sunny side up egg\, bacon\, br
 ava sauce\, served with home fried potatoes\n\n&nbsp\;\n\nKid’s Menu\n\n
 Choice of: Juice\, lemonade\, chocolate milk or hot chocolate\n\n&nbsp\;\n
 \nIncludes Fruit Medley\n\n&nbsp\;\n\nChoice of one entrée:\n\nScrambled 
 Eggs with toast and home fried potatoes with choice of bacon or sausage pa
 tty\n\n&nbsp\;\n\nPancakes (plain\, blueberry or chocolate chip)\n\nWith c
 hoice of bacon or sausage patty\n\n&nbsp\;\n\nBrioche French Toast with ch
 oice of bacon or sausage patty
ATTACH;FMTTYPE=image/jpeg:https://hamptons.com/wp-content/uploads/2026/04/
 mothers-day-hamp-maid-e1776363796449.png
LOCATION:The Hampton Maid\, 259 E Montauk Hwy\, Hampton Bays\, NY\, 11946\,
  United States
X-APPLE-STRUCTURED-LOCATION;VALUE=URI;X-ADDRESS=259 E Montauk Hwy\, Hampton
  Bays\, NY\, 11946\, United States;X-APPLE-RADIUS=100;X-TITLE=The Hampton 
 Maid:geo:0,0
END:VEVENT
BEGIN:VTIMEZONE
TZID:America/New_York
X-LIC-LOCATION:America/New_York
BEGIN:DAYLIGHT
DTSTART:20260308T030000
TZOFFSETFROM:-0500
TZOFFSETTO:-0400
TZNAME:EDT
END:DAYLIGHT
END:VTIMEZONE
END:VCALENDAR