BEGIN:VCALENDAR
VERSION:2.0
PRODID:-//wp-events-plugin.com//7.2.3.1//EN
TZID:America/New_York
X-WR-TIMEZONE:America/New_York
BEGIN:VEVENT
UID:348@hamptons.com
DTSTART;TZID=America/New_York;VALUE=DATE:20260501
DTEND;TZID=America/New_York;VALUE=DATE:20260502
DTSTAMP:20260416T181030Z
URL:https://hamptons.com/events/psychic-readings-at-wave/
SUMMARY:Psychic Readings at WAVE
DESCRIPTION:WAVE welcomes psychic medium Cristiana McMahon for a day of pri
 vate\, 45-minute readings designed to offer clarity\, insight\, and meanin
 gful connection. Known for her grounded yet deeply intuitive approach\, Cr
 istiana creates a space for reflection\, guidance\, and perspective—meet
 ing you exactly where you are. $275 Per Person\nCall WAVE Social Wellness 
 to book your appointment: 631-800-4223
ATTACH;FMTTYPE=image/jpeg:https://hamptons.com/wp-content/uploads/2023/04/
 wave-wellness-hamptons.png
LOCATION:WAVE Social Wellness\, 15B Hill Street\, Southampton\, NY\, 11968\
 , Southampton\, United States
X-APPLE-STRUCTURED-LOCATION;VALUE=URI;X-ADDRESS=15B Hill Street\, Southampt
 on\, NY\, 11968\, Southampton\, United States;X-APPLE-RADIUS=100;X-TITLE=W
 AVE Social Wellness:geo:0,0
END:VEVENT
BEGIN:VTIMEZONE
TZID:America/New_York
X-LIC-LOCATION:America/New_York
BEGIN:DAYLIGHT
DTSTART:20260308T030000
TZOFFSETFROM:-0500
TZOFFSETTO:-0400
TZNAME:EDT
END:DAYLIGHT
END:VTIMEZONE
END:VCALENDAR