BEGIN:VCALENDAR
VERSION:2.0
PRODID:-//wp-events-plugin.com//7.2.3.1//EN
TZID:America/New_York
X-WR-TIMEZONE:America/New_York
BEGIN:VEVENT
UID:407@hamptons.com
DTSTART;TZID=America/New_York:20260425T100000
DTEND;TZID=America/New_York:20260425T120000
DTSTAMP:20260422T192048Z
URL:https://hamptons.com/events/rods-valley-hike/
SUMMARY:Rod’s Valley Hike
DESCRIPTION:Distance: 2.5+ miles\nLevel: Relaxed pace\nJoin us for a relaxe
 d-pace hilly hike that is mostly on the Paumanok Path and takes us to plac
 es typically only seen on much longer hikes. You will see Fort Pond Bay\, 
 and hike Riah's Ridge and the Lost Boulder Trail. You'll be asked whether 
 you can locate the boulder!&nbsp\; Meet at 10 AM at the Rod's Valley Park 
 parking area at the west end of Navy Road in Montauk. Time: Duration: App.
  2 hours.\nLeader: Amy Ruhle\, 631-521-3602\;&nbsp\;amyruhle@optonline.net
 \n&nbsp\;
ATTACH;FMTTYPE=image/jpeg:https://hamptons.com/wp-content/uploads/2026/04/
 hike-montauk.jpg
LOCATION:Rod's Valley Park\, Navy Road\, Montauk\, NY\, United States
X-APPLE-STRUCTURED-LOCATION;VALUE=URI;X-ADDRESS=Navy Road\, Montauk\, NY\, 
 United States;X-APPLE-RADIUS=100;X-TITLE=Rod's Valley Park:geo:0,0
END:VEVENT
BEGIN:VTIMEZONE
TZID:America/New_York
X-LIC-LOCATION:America/New_York
BEGIN:DAYLIGHT
DTSTART:20260308T030000
TZOFFSETFROM:-0500
TZOFFSETTO:-0400
TZNAME:EDT
END:DAYLIGHT
END:VTIMEZONE
END:VCALENDAR