BEGIN:VCALENDAR
VERSION:2.0
PRODID:-//wp-events-plugin.com//7.2.3.1//EN
TZID:America/New_York
X-WR-TIMEZONE:America/New_York
BEGIN:VEVENT
UID:405@hamptons.com
DTSTART;TZID=America/New_York:20260424T160000
DTEND;TZID=America/New_York:20260427T220000
DTSTAMP:20260422T194840Z
URL:https://hamptons.com/events/sag-harbor-cinema-the-stranger/
SUMMARY:Sag Harbor Cinema: The Stranger
DESCRIPTION:In French Algeria\, Meursault drifts through life and love with
  mysterious detachment. When he stands accused of murdering an Arab man\, 
 indifference is his only alibi in François Ozon’s fresh take on Albert 
 Camus’s classic novel.\n&nbsp\;\n\nRuntime:\n120\nRelease Year:\n2025\nP
 roduction Country:\nFrance\nOriginal Langauge:\nFrench\nSubtitles:\nEnglis
 h\n
ATTACH;FMTTYPE=image/jpeg:https://hamptons.com/wp-content/uploads/2026/01/
 accabonac-theater.jpg
LOCATION:Sag Harbor Cinema\, 90 Main Street\, Sag Harbor\, NY\, 11963\, Ham
 ptons\, United States
X-APPLE-STRUCTURED-LOCATION;VALUE=URI;X-ADDRESS=90 Main Street\, Sag Harbor
 \, NY\, 11963\, Hamptons\, United States;X-APPLE-RADIUS=100;X-TITLE=Sag Ha
 rbor Cinema:geo:0,0
END:VEVENT
BEGIN:VTIMEZONE
TZID:America/New_York
X-LIC-LOCATION:America/New_York
BEGIN:DAYLIGHT
DTSTART:20260308T030000
TZOFFSETFROM:-0500
TZOFFSETTO:-0400
TZNAME:EDT
END:DAYLIGHT
END:VTIMEZONE
END:VCALENDAR