BEGIN:VCALENDAR
VERSION:2.0
PRODID:-//wp-events-plugin.com//7.2.3.1//EN
TZID:America/New_York
X-WR-TIMEZONE:America/New_York
BEGIN:VEVENT
UID:357@hamptons.com
DTSTART;TZID=America/New_York:20260503T140000
DTEND;TZID=America/New_York:20260503T163000
DTSTAMP:20260417T150238Z
URL:https://hamptons.com/events/silent-film-jazz-jam-session/
SUMMARY:Silent Film Jazz Jam Session
DESCRIPTION:East End Jazz is thrilled to announce the grand finale of its c
 urrent season: a special "Live Film / Live Jazz" edition of the "East Meet
 s West Jazz Jam Session" on Sunday\, May 3rd\, 2026 from 2 to 4:30PM at th
 e Auditorium at SCC on 25 Pond Lane\, SH. Admission Free. This season clos
 er features a high-concept collaboration with renowned multimedia artist C
 liff Baldwin\, who has curated a series of silent film clips specifically 
 to be "scored" in real-time by the community.
ATTACH;FMTTYPE=image/jpeg:https://hamptons.com/wp-content/uploads/2026/04/
 Ad-of-Silent-Film-Jazz-Jam-Sun.-May-3rd-500-x-500-px.png
LOCATION:Southampton Cultural Center\, 25 Pond Lane\, Southampton\, New Yor
 k\, 11968\, Hamptons\, United States
X-APPLE-STRUCTURED-LOCATION;VALUE=URI;X-ADDRESS=25 Pond Lane\, Southampton\
 , New York\, 11968\, Hamptons\, United States;X-APPLE-RADIUS=100;X-TITLE=S
 outhampton Cultural Center:geo:0,0
END:VEVENT
BEGIN:VTIMEZONE
TZID:America/New_York
X-LIC-LOCATION:America/New_York
BEGIN:DAYLIGHT
DTSTART:20260308T030000
TZOFFSETFROM:-0500
TZOFFSETTO:-0400
TZNAME:EDT
END:DAYLIGHT
END:VTIMEZONE
END:VCALENDAR