BEGIN:VCALENDAR
VERSION:2.0
PRODID:-//wp-events-plugin.com//7.2.3.1//EN
TZID:America/New_York
X-WR-TIMEZONE:America/New_York
BEGIN:VEVENT
UID:358@hamptons.com
DTSTART;TZID=America/New_York:20260424T190000
DTEND;TZID=America/New_York:20260424T210000
DTSTAMP:20260418T134259Z
URL:https://hamptons.com/events/state-of-the-bays-2026/
SUMMARY:State of the Bays 2026
DESCRIPTION:Healthy coastal waters are vital to our communities\, yet many 
 of us don’t fully understand the challenges they face or how quickly con
 ditions are changing.\nJoin Dr. Chris Gobler and the Gobler Lab at Stony B
 rook Southampton for the State of the Bays Symposium: No Time to Waste\, a
 n annual event offering a clear\, science-based look at the health of our 
 local waters and what it means for Long Island.
ATTACH;FMTTYPE=image/jpeg:https://hamptons.com/wp-content/uploads/2026/04/
 SBSH-500X500_BAY-R2-e1776519456168.jpg
LOCATION:The Avram Theater\, 70 Tuckahoe Rd\, Southampton\, NY\, 11968\, Un
 ited States
X-APPLE-STRUCTURED-LOCATION;VALUE=URI;X-ADDRESS=70 Tuckahoe Rd\, Southampto
 n\, NY\, 11968\, United States;X-APPLE-RADIUS=100;X-TITLE=The Avram Theate
 r:geo:0,0
END:VEVENT
BEGIN:VTIMEZONE
TZID:America/New_York
X-LIC-LOCATION:America/New_York
BEGIN:DAYLIGHT
DTSTART:20260308T030000
TZOFFSETFROM:-0500
TZOFFSETTO:-0400
TZNAME:EDT
END:DAYLIGHT
END:VTIMEZONE
END:VCALENDAR