BEGIN:VCALENDAR
VERSION:2.0
PRODID:-//wp-events-plugin.com//7.2.3.1//EN
TZID:America/New_York
X-WR-TIMEZONE:America/New_York
BEGIN:VEVENT
UID:404@hamptons.com
DTSTART;TZID=America/New_York:20260425T200000
DTEND;TZID=America/New_York:20260425T220000
DTSTAMP:20260423T185032Z
URL:https://hamptons.com/events/the-cherry-bombs-at-the-stephen-talkhouse/
SUMMARY:The Cherry Bombs at The Stephen Talkhouse
DESCRIPTION:Get ready to unleash your inner 80s aficionado with the Cherry 
 Bombs! This explosive tribute band is here to take you on a time-traveling
  journey back to the neon-soaked era of big hair\, shoulder pads\, and leg
  warmers. Whether you're looking to dance\, sing along\, or simply bask in
  the nostalgic glow of the 80s\, the Cherry Bombs are the band to see.\n\n
 Get Tickets
ATTACH;FMTTYPE=image/jpeg:https://hamptons.com/wp-content/uploads/2026/04/
 the-cherry-bombs-stephen-talkhouse.jpg
LOCATION:Stephen Talkhouse\, 161 Main St\, Amagansett\, NY\, 11930\, United
  States
X-APPLE-STRUCTURED-LOCATION;VALUE=URI;X-ADDRESS=161 Main St\, Amagansett\, 
 NY\, 11930\, United States;X-APPLE-RADIUS=100;X-TITLE=Stephen Talkhouse:ge
 o:0,0
END:VEVENT
BEGIN:VTIMEZONE
TZID:America/New_York
X-LIC-LOCATION:America/New_York
BEGIN:DAYLIGHT
DTSTART:20260308T030000
TZOFFSETFROM:-0500
TZOFFSETTO:-0400
TZNAME:EDT
END:DAYLIGHT
END:VTIMEZONE
END:VCALENDAR