BEGIN:VCALENDAR
VERSION:2.0
PRODID:-//wp-events-plugin.com//7.2.3.1//EN
TZID:America/New_York
X-WR-TIMEZONE:America/New_York
BEGIN:VEVENT
UID:52@hamptons.com
DTSTART;TZID=America/New_York:20260322T140000
DTEND;TZID=America/New_York:20260322T153000
DTSTAMP:20260318T184343Z
URL:https://hamptons.com/events/the-seismatics-concert/
SUMMARY:The Seismatics Concert
DESCRIPTION:The Seismatics Concert Sunday\, March 22 at 2:00pm The Seismati
 cs play high energy\, guitar-driven rock from the '60s to the '90s. You ca
 n expect to hear music ranging from The Beatles and Tom Petty to David Bow
 ie and The Cure\, with a set designed to make you get up and dance! Westha
 mpton Free Library strives to create respectful and family-friendly experi
 ences. We ask that all participants in library programs be mindful and pol
 ite. Guests who are disruptive\, engage in bullying\, or otherwise do not 
 conduct themselves in a respectful manner in accordance with the Library's
  Maintenance of Public Order at Library Facilities and Rules for Use of th
 e Library policies\, may be removed. We thank you in advance for your cour
 tesy.
ATTACH;FMTTYPE=image/jpeg:https://hamptons.com/wp-content/uploads/2026/02/
 AdobeStock_262078897-scaled.jpeg
LOCATION:Westhampton Free Library\, 7 Library Avenue\, Westhampton Beach\, 
 NY\, United States
X-APPLE-STRUCTURED-LOCATION;VALUE=URI;X-ADDRESS=7 Library Avenue\, Westhamp
 ton Beach\, NY\, United States;X-APPLE-RADIUS=100;X-TITLE=Westhampton Free
  Library:geo:0,0
END:VEVENT
BEGIN:VTIMEZONE
TZID:America/New_York
X-LIC-LOCATION:America/New_York
BEGIN:DAYLIGHT
DTSTART:20260308T030000
TZOFFSETFROM:-0500
TZOFFSETTO:-0400
TZNAME:EDT
END:DAYLIGHT
END:VTIMEZONE
END:VCALENDAR